BEGIN:VCALENDAR
VERSION:2.0
PRODID:-//Literaturhaus Bonn - ECPv6.15.18//NONSGML v1.0//EN
CALSCALE:GREGORIAN
METHOD:PUBLISH
X-ORIGINAL-URL:https://literaturhaus-bonn.de
X-WR-CALDESC:Veranstaltungen für Literaturhaus Bonn
REFRESH-INTERVAL;VALUE=DURATION:PT1H
X-Robots-Tag:noindex
X-PUBLISHED-TTL:PT1H
BEGIN:VTIMEZONE
TZID:Europe/Berlin
BEGIN:DAYLIGHT
TZOFFSETFROM:+0100
TZOFFSETTO:+0200
TZNAME:CEST
DTSTART:20240331T010000
END:DAYLIGHT
BEGIN:STANDARD
TZOFFSETFROM:+0200
TZOFFSETTO:+0100
TZNAME:CET
DTSTART:20241027T010000
END:STANDARD
BEGIN:DAYLIGHT
TZOFFSETFROM:+0100
TZOFFSETTO:+0200
TZNAME:CEST
DTSTART:20250330T010000
END:DAYLIGHT
BEGIN:STANDARD
TZOFFSETFROM:+0200
TZOFFSETTO:+0100
TZNAME:CET
DTSTART:20251026T010000
END:STANDARD
BEGIN:DAYLIGHT
TZOFFSETFROM:+0100
TZOFFSETTO:+0200
TZNAME:CEST
DTSTART:20260329T010000
END:DAYLIGHT
BEGIN:STANDARD
TZOFFSETFROM:+0200
TZOFFSETTO:+0100
TZNAME:CET
DTSTART:20261025T010000
END:STANDARD
END:VTIMEZONE
BEGIN:VEVENT
DTSTART;TZID=Europe/Berlin:20250505T183000
DTEND;TZID=Europe/Berlin:20250505T203000
DTSTAMP:20260421T061820
CREATED:20250312T091827Z
LAST-MODIFIED:20250407T090330Z
UID:15776032-1746469800-1746477000@literaturhaus-bonn.de
SUMMARY:LESEZIRKEL»GETÄUSCHT«JURI FELSEN [AUSGEBUCHT]
DESCRIPTION:Moderation: Judith Merchant \nLektüre sucht Auseinandersetzung\, Hintergrundwissen\, Debatte – das Literaturhaus Bonn sucht aktive Leser*innen mit Freude am Dialog. Unseren Mitgliedern bieten wir einen von der Bonner Autorin Judith Merchant geleiteten Lesezirkel an\, der Titel im Literaturhaus-Programm liest und diskutiert. Neuzugänge sind stets willkommen! \nGelesen und besprochen wird an diesem Termin »Getäuscht« von Juri Felsen \n\n\n			\n				\n				\n				\n				\n				The Art of Books\, Bonner Talweg 28 A\, Bonn9€ / Eintritt frei \n			\n				ANMELDEN
URL:https://literaturhaus-bonn.de/veranstaltung/lesezirkelgetaeuschtjuri-felsen/
LOCATION:The Art of Books\, Bonner Talweg 28a\, Bonn\, NRW\, 53113\, Deutschland
CATEGORIES:LESEZIRKEL
ATTACH;FMTTYPE=image/png:https://literaturhaus-bonn.de/wp-content/uploads/2023/02/Logo_mit_Dreieick-1.png
END:VEVENT
BEGIN:VEVENT
DTSTART;TZID=Europe/Berlin:20250507T183000
DTEND;TZID=Europe/Berlin:20250507T203000
DTSTAMP:20260421T061820
CREATED:20250312T094517Z
LAST-MODIFIED:20250312T100109Z
UID:15776055-1746642600-1746649800@literaturhaus-bonn.de
SUMMARY:LESEZIRKEL»GETÄUSCHT«JURI FELSEN
DESCRIPTION:Moderation: Judith Merchant \nLektüre sucht Auseinandersetzung\, Hintergrundwissen\, Debatte – das Literaturhaus Bonn sucht aktive Leser*innen mit Freude am Dialog. Unseren Mitgliedern bieten wir einen von der Bonner Autorin Judith Merchant geleiteten Lesezirkel an\, der Titel im Literaturhaus-Programm liest und diskutiert. Neuzugänge sind stets willkommen! \nGelesen und besprochen wird an diesem Termin »Getäuscht« von Juri Felsen \n\n\n			\n				\n				\n				\n				\n				Café Camus\, Breite Str. 54-56\, Bonn\n9€ / Eintritt frei\n			\n				ANMELDEN
URL:https://literaturhaus-bonn.de/veranstaltung/lesezirkelgetaeuschtjuri-felsen-2/
LOCATION:Café Camus\, Breite Str. 54-56\, Bonn\, NRW\, 53111
CATEGORIES:LESEZIRKEL
ATTACH;FMTTYPE=image/png:https://literaturhaus-bonn.de/wp-content/uploads/2023/02/Logo_mit_Dreieick-1.png
END:VEVENT
BEGIN:VEVENT
DTSTART;TZID=Europe/Berlin:20250509T190000
DTEND;TZID=Europe/Berlin:20250509T203000
DTSTAMP:20260421T061820
CREATED:20250116T104347Z
LAST-MODIFIED:20250505T130039Z
UID:15775906-1746817200-1746822600@literaturhaus-bonn.de
SUMMARY:MARTINA HEFTER»HEY GUTEN MORGEN\, WIE GEHT ES DIR?« [RESTKARTEN]
DESCRIPTION:Moderation: Judith Merchant \n»Ein so trauriges und zugleich witziges Buch\, so elegant und zart\, wie ich es nicht nur auf Deutsch lange nicht gelesen habe\, ein Roman über Krankheit und Alter und Einsamkeit und das Internet und die Schönheit der Fiktionen. Einen würdigeren Gewinner des Deutschen Buchpreises hat es lange nicht gegeben.« Daniel Kehlmann \nTagsüber hilft Juno ihrem schwerkranken Mann Jupiter dabei\, seinen Alltag zu meistern. Außerdem ist sie Künstlerin\, tanzt und spielt Theater. Und nachts\, wenn sie wieder einmal nicht schlafen kann\, chattet sie mit Love-Scammern im Internet. \nMartina Hefter hat einen berührenden Roman über Bedürfnisse und Sehnsüchte im Leben geschrieben. Und darüber\, wie weit man bereit ist\, für die Liebe zu gehen. \nJuno schreibt online mit Männern\, die Frauen online ihre Liebe gestehen und so versuchen\, sie um ihr Geld zu bringen. Doch statt darauf hereinzufallen\, werden genau diese Männer zu einer Form von Freiheit für Juno. In den Gesprächen kann sie sein\, wer sie will und sagen\, was sie will – und das vermeintlich ohne Konsequenzen. Ganz im Gegensatz zu ihrem sonstigen Leben\, in dem sie immer unterwegs\, immer besorgt um Jupiter\, immer beschäftigt und eingebunden ist. Also flüchtet Juno ab und zu vor ihrem Alltag ins Internet und spielt dort Spielchen mit Männern\, die sie anlügen. Sie selbst wird zur Lügnerin. Aber ist es nicht so\, dass man sich beim Lügen zuallererst selbst belügt? \nEines Tages trifft Juno auf Benu\, der ihre Behauptungen ebenso durchschaut wie sie seine. Und trotz der Entfernung zwischen ihnen entsteht eine Verbindung. »Hey guten Morgen\, wie geht es dir« ist ein tiefgehender Roman\, aber so leichtfüßig wie eine Komödie. \nMartina Hefter lebt als Autorin und Performerin in Leipzig. Ihre Texte bewegen sich zwischen Gedicht\, szenischen Schreibformen und Roman. Viele ihrer Texte setzt sie in Zusammenarbeit mit anderen Künstler*innen szenisch um. Sie veröffentlichte drei Romane und fünf Gedichtbände. Für »Hey guten Morgen\, wie geht es dir?« erhielt sie 2024 den Deutschen Buchpreis sowie den Großen Preis des Deutschen Literaturfonds. \nIn Kooperation mit der Katholischen Familienbildungsstätte Bonn \n\n\n			\n				\n				\n				\n				\n				Familienbildungsstätte Bonn Raum 0.1 Saal\, Lennéstraße 5\, BonnKarten im VVK über Bonnticket 16€ / 12\,80€ / 8€ / 2\,50€\, Abendkasse 18€ / 14€ / 10€ / 3€ \nVVK nicht mehr verfügbar\, evtl. Restkarten an der Abendkasse \n			\n				\n				\n				\n				\n				Foto: Maximilian Gödecke
URL:https://literaturhaus-bonn.de/veranstaltung/martina-hefterhey-guten-morgen-wie-geht-es-dir/
LOCATION:Katholische Familienbildungsstätte
ATTACH;FMTTYPE=image/png:https://literaturhaus-bonn.de/wp-content/uploads/2025/01/Martina-Hefter-sw-c-Maximilian-Goedecke.png
END:VEVENT
BEGIN:VEVENT
DTSTART;TZID=Europe/Berlin:20250513T190000
DTEND;TZID=Europe/Berlin:20250513T203000
DTSTAMP:20260421T061820
CREATED:20250325T074544Z
LAST-MODIFIED:20250429T111857Z
UID:15776115-1747162800-1747168200@literaturhaus-bonn.de
SUMMARY:30 JAHRE EDITION MEMORIAMIT THOMAS B. SCHUMANN
DESCRIPTION:Moderation: Thomas Kliemann \nEin kleiner Verlag mit großer Aufgabe: Seit 1995 publiziert Thomas B. Schumann in seiner Edition Memoria deutsche Exilliteratur und -kunst – d.h. Werke\, deren Verfasser*innen von der nationalsozialistischen Gewaltherrschaft ins Exil gezwungen wurden. Unter den mittlerweile rund 40 veröffentlichten Autor*innen finden sich bekannte Namen wie Judith Kerr\, Elisabeth Mann Borgese oder Georg Kreisler. Daneben zahlreiche andere wie Jo Mihaly und René Halkett\, die – gerade angesichts heutiger Flucht- und Exil-Szenarien – von der breiteren Öffentlichkeit noch zu entdecken sind. \nModeriert von Thomas Kliemann\, Kunsthistoriker und Feuilleton-Chef des Bonner General-Anzeigers\, erzählt Thomas B. Schumann aus 30 Jahren Verlagsgeschichte: Wie alles mit einer frühen Begegnung mit Katia Mann begann\, von den Herausforderungen seines Einmann-Betriebs und welche Rolle seine Sammlung im von der Stadt Bonn geplanten „Forum Exilkultur“ spielen soll. \nThomas B. Schumann\, 1950 in Köln geboren\, arbeitete im Buchhandel und studierte Germanistik und Geschichte in Bonn\, Köln und München. Er ist Herausgeber\, Publizist\, Vortragsreferent und Ausstellungkurator; war journalistisch u.a. für FAZ\, NZZ und Die Zeit tätig. Er besitzt die wohl umfangreichste private Sammlung zur deutschen Exilkultur (diverse Nachlässe\, Bilder\, Bücher\, Manuskripte\, Dokumente). 2017 ehrte ihn das PEN-Zentrum Deutschland mit dem Hermann-Kesten-Preis. Schumanns Edition Memoria feiert 2025 30. Geburtstag und ist der einzige deutsche Verlag\, der ausschließlich Exilliteratur veröffentlicht. \n\nIn Kooperation mit der Stadtbibliothek Bonn\n\n\n\n			\n				\n				\n				\n				\n				Saal im Haus der Bildung\, Mülheimer Platz 1\, BonnKarten im VVK über Bonnticket 16€ / 12\,80€ / 8€ / 2\,50€\, Abendkasse 18€ / 14€ / 10€ / 3€ \n			\n				\n				\n				\n				\n				Foto: Andreas Rossmann\n			\n				TICKETS
URL:https://literaturhaus-bonn.de/veranstaltung/30-jahre-edition-memoriamit-thomas-b-schumann/
LOCATION:Saal im Haus der Bildung\, Bottlerplatz 1\, 53111 Bonn\, 53111\, Deutschland
ATTACH;FMTTYPE=image/png:https://literaturhaus-bonn.de/wp-content/uploads/2025/03/Thomas-B.-SChumann-c-Andreas-Rossmann-sw.png
END:VEVENT
BEGIN:VEVENT
DTSTART;TZID=Europe/Berlin:20250519T181500
DTEND;TZID=Europe/Berlin:20250519T194500
DTSTAMP:20260421T061820
CREATED:20250325T075459Z
LAST-MODIFIED:20250325T075459Z
UID:15776122-1747678500-1747683900@literaturhaus-bonn.de
SUMMARY:PRUNE ANTOINE»EINE FRAU IN DEUTSCHLAND«
DESCRIPTION:Moderation: Matthieu Osmont \n»Eine überwältigende Geschichte\, die in die größten Untiefen von Mutterschaft vordringt.« Annie Ernaux \nSolingen\, 2020. Christiane K. ist 27 Jahre alt\, als sie fünf ihrer sechs Kinder umbringt und sich dann vor einen Zug wirft. Sie überlebt. Prune Antoine\, eine französische Reporterin\, die selbst gerade Mutter geworden ist\, entwickelt eine journalistische Obsession für diese Tragödie. Sie will nicht erklären\, schon gar nicht entschuldigen\, sie will verstehen. Auf der Suche nach einer Wahrheit jenseits von Voyeurismus und Dämonisierung dringt Antoine immer tiefer in die Welt der Christiane K. vor\, bis sie ihr schließlich im Gefängnis gegenübersitzt. Diese junge Frau soll ein Monster sein? »Eine Frau In Deutschland« ist eine erschütternde Spurensuche\, die zuletzt weniger über die Tragödie einer einzelnen Familie preisgibt als über die Rolle der Mutter in Deutschland. Prune Antoine\, geboren in Frankreich\, aufgewachsen in Europa\, ist eine unabhängige Reporterin und Romanautorin. Ihre teils preisgekrönten Reportagen erschienen unter anderem im Reportagen-Magazin\,  in der Zeit\, Le Monde und dem Guardian. Derzeit ist sie als Journalistin in residence am Max-Planck-Institut für Völkerrecht tätig und forscht zu sexueller Gewalt in Kriegszeiten. Sie lebt in Berlin. Die Lesung ist Teil der Ringvorlesung »Maternité(s) Mutterschaftsnarrative in der frankophonen Literatur\, Kultur und Gesellschaft«. \nIn Kooperation mit der Romanistik der Universität Bonn und dem Institut français Bonn \n\n\n			\n				\n				\n				\n				\n				Institut français Bonn\, Adenauerallee 35\, BonnKarten im VVK über Bonnticket 16€ / 12\,80€ / 8€\, Abendkasse 18€ / 14€ / 10€Eintritt für Studierende der Universität Bonn frei \n			\n				\n				\n				\n				\n				Foto: Chloe Desnoyers\n			\n				TICKETS
URL:https://literaturhaus-bonn.de/veranstaltung/prune-antoineeine-frau-in-deutschland/
LOCATION:Institut français Bonn
ATTACH;FMTTYPE=image/png:https://literaturhaus-bonn.de/wp-content/uploads/2025/03/Prune-Antoine-sw.png
END:VEVENT
BEGIN:VEVENT
DTSTART;TZID=Europe/Berlin:20250526T190000
DTEND;TZID=Europe/Berlin:20250526T203000
DTSTAMP:20260421T061820
CREATED:20250325T080256Z
LAST-MODIFIED:20250514T135835Z
UID:15776131-1748286000-1748291400@literaturhaus-bonn.de
SUMMARY:JURI FELSEN »GETÄUSCHT«DIE ÜBERSETZERIN ROSEMARIE TIETZE AUF DEN SPUREN RUSSISCHER WELTLITERATUR
DESCRIPTION:Moderation: Judith Merchant \nWir treffen unseren namenlosen Erzähler im Paris der Zwanzigerjahre\, wo er sich nach der Russischen Revolution als Emigrant wiederfindet. Auf Bitten einer Bekannten lernt er die schöne\, kluge und gesellige Ljolja kennen\, die ebenfalls aus Russland geflohen ist. Was als lockere Freundschaft beginnt\, verwandelt sich schnell in Faszination und Besessenheit\, da sie uneindeutige Signale sendet und anderen Männern nachstellt.Während Ljolja weiterhin ein Leben führt\, das nicht von den Kräften der gesellschaftlichen Konvention und der Geschichte beeinträchtigt wird\, werden die in Tagebuchform geschriebenen Enthüllungen unseres Erzählers immer schmerzhafter\, vertrauter und reich an psychologischer Introspektion. \nJuri Felsen ist das Pseudonym des Autors Nikolai Freudenstein. Geboren 1894 in St. Petersburg\, emigrierte er 1921 nach Europa und ließ sich 1923 in Paris nieder. In Frankreich wurde er zu einem der führenden Schriftsteller seiner Generation. Beeinflusst von den großen Modernisten wie Marcel Proust\, James Joyce und Virginia Woolf stand er mit seinem Werk an der Spitze der ästhetischen und philosophischen Strömungen der europäischen Literatur. Nach der deutschen Besetzung Frankreichs versuchte Felsen\, in die Schweiz zu fliehen; er wurde jedoch gefasst\, verhaftet und im Konzentrationslager Drancy interniert. Juri Felsen wurde 1943 deportiert und in Auschwitz ermordet. Erst 2012 wurde er wiederentdeckt und 2022 ins Englische übersetzt. Auch auf Deutsch ist sein Werk in der Übersetzung von Rosemarie Tietze zum ersten Mal überhaupt zugänglich. \nDie Literaturübersetzerin Rosemarie Tietze unterrichtet Übersetzen und präsentiert ihre Autor*innen und die Übersetzungskunst in Lesungen und in den Medien. Sie hat russische Klassiker ins Deutsche übertragen (Puschkin\, Tolstoi – ihre »Anna Karenina« wurde zum Bestseller)\, Werke aus der Zeit der russischen Emigration (Nabokov\, Gasdanow) wie auch der Gegenwart (Bitow\, Axjonow\, Petruschewskaja u. a.). Mehrfach wurde sie ausgezeichnet\, u. a. mit dem Johann-Heinrich-Voß-Preis der Deutschen Akademie für Sprache und Dichtung und dem Celan-Preis des Deutschen Literaturfonds. \nIn Kooperation mit Café Camus sowie Gedenkstätte und NS-Dokumentationszentrum BonnGefördert durch die Kunststiftung NRW und den Deutschen Übersetzerfonds. \n\n\n\n\n			\n				\n				\n				\n				\n				Café Camus\, Breite Str. 54-56\, BonnKarten im VVK über Bonnticket 16€ / 12\,80€ / 8€ / 2\,50€\, Abendkasse 18€ / 14€ / 10€ / 3€ \n			\n				\n				\n				\n				\n				Foto links: NN / Foto rechts: Lennart Laberenz\n			\n				TICKETS
URL:https://literaturhaus-bonn.de/veranstaltung/juri-felsen-getaeuschtdie-uebersetzerin-rosemarie-tietze-auf-den-spuren-russischer-weltliteratur/
LOCATION:Café Camus\, Breite Str. 54-56\, Bonn\, NRW\, 53111
CATEGORIES:LITERATUR ÜBERSETZEN
ATTACH;FMTTYPE=image/png:https://literaturhaus-bonn.de/wp-content/uploads/2025/03/Flesen_Tietze_sw.png
END:VEVENT
BEGIN:VEVENT
DTSTART;TZID=Europe/Berlin:20250528T190000
DTEND;TZID=Europe/Berlin:20250528T203000
DTSTAMP:20260421T061820
CREATED:20250325T081826Z
LAST-MODIFIED:20250422T122727Z
UID:15776138-1748458800-1748464200@literaturhaus-bonn.de
SUMMARY:YANNIC HAN BIAO FEDERER»FÜR IMMER SEH ICH DICH WIEDER«
DESCRIPTION:Moderation: Anne Burgmer \nCharlotte und Yannic erwarten ein Kind. Zwischen Pränatalscreening\, Projektabschlüssen und Elterngeldrechner richten sie sich ein auf ein neues Leben als Familie. Doch dann ereignet sich die Katastrophe\, ihr Sohn\, Gustav Tian Ming\, stirbt. Eben noch haben sie Wickeltische gegoogelt\, Stillkissen angeschafft\, plötzlich müssen sie einen Kindersarg aussuchen\, ein Grab kaufen. Alles fühlt sich falsch an\, verrückt und wie ausgedacht\, aber es passiert wirklich. Erschütterte Verwandte und Freunde reisen an oder nehmen Anteil aus der Ferne\, tragen Opferschalen in den Tempel. Und während Charlotte und er mit einer Bürokratie zu kämpfen haben\, die mit totgeborenen Kindern kaum umzugehen weiß\, beginnt Yannic aufzuschreiben\, was um ihn her geschieht. Es ist ein Versuch zu begreifen\, was ihnen widerfahren ist\, eine Sprache zu finden für die Trauer und den Schmerz\, aber auch für die Wärme und Liebe\, die sich darin verbirgt. \nPräzise und eindringlich erzählt Yannic Han Biao Federer vom Verlust seines Sohnes\, von Abschied und Carearbeit\, von Elternschaft und Liebe. »Für immer seh ich dich wieder« ist ein Dokument der Trauer – und der heilenden Kraft des Erzählens. \nYannic Han Biao Federer lebt und arbeitet als freier Autor in Köln. Er schreibt Romane und Erzählungen\, Essays und Rezensionen\, u. a. für Deutschlandfunk\, WDR und SWR. Er ist Mitglied des PEN Berlin sowie des Jungen Kollegs in der Nordrhein-Westfälischen Akademie der Wissenschaften und der Künste. Er erhielt zahlreiche Preise und Stipendien\, zuletzt den Bayern 2-Wortspiele-Literaturpreis und den Förderpreis des Landes Nordrhein-Westfalen 2022. \nDie Veranstaltung findet im Rahmen der Bonner Theaternacht 2025 statt.Außerdem im Haus: \n\nab 19 Uhr: Bonn liest ein Buch – Finalvoting\n19 Uhr: VHS Bonn interaktiv: Säulen der Demokratie\n21 Uhr: Literatur-Quiz\n\nMehr Informationen zum Programm finden Sie auf der Website der Bonner Theaternacht \nIn Kooperation mit der Stadtbibliothek Bonn und der Volkshochschule Bonn \n\n\n\n\n			\n				\n				\n				\n				\n				Saal im Haus der Bildung\, Mülheimer Platz 1\, Bonn \nACHTUNG\, es gibt zwei Ticketkategorien!Literaturhauskarten nur für die Lesung: im VVK über Bonnticket 16€ / 12\,80€ / 8€ / 2\,50€ \, Abendkasse 18€ / 14€ / 10€ / 3€Karten für die gesamte Theaternacht inkl. Lesung über die Website der Bonner Theaternacht \n			\n				\n				\n				\n				\n				Foto: Heike Steinweg\n			\n				LITERATURHAUSKARTEN (NUR LESUNG)\n			\n				THEATERNACHT INKL. LESUNG
URL:https://literaturhaus-bonn.de/veranstaltung/yannic-han-biao-federerfuer-immer-seh-ich-dich-wieder/
LOCATION:Saal im Haus der Bildung\, Bottlerplatz 1\, 53111 Bonn\, 53111\, Deutschland
CATEGORIES:BONNER THEATERNACHT
ATTACH;FMTTYPE=image/png:https://literaturhaus-bonn.de/wp-content/uploads/2025/03/Federer_Yannic_sw.png
END:VEVENT
BEGIN:VEVENT
DTSTART;TZID=Europe/Berlin:20250528T210000
DTEND;TZID=Europe/Berlin:20250528T213000
DTSTAMP:20260421T061820
CREATED:20250429T121814Z
LAST-MODIFIED:20250429T140551Z
UID:15776366-1748466000-1748467800@literaturhaus-bonn.de
SUMMARY:Literatur Quiz
DESCRIPTION:Moderation: das LHB-Team \nLeseratten aufgepasst: Zahlreiche Preise winken beim großen analog-digitalen Literaturquiz! Machen Sie mit beim unterhaltsamen Rätselraten\, stellen Sie Ihr Wissen spielerisch auf den Prüfstand und gewinnen Sie Eintrittskarten\, Buchpreise und vieles andere mehr. \nDie Veranstaltung findet im Rahmen der Bonner Theaternacht 2025 statt.Außerdem im Haus: \n\nab 19 Uhr: Bonn liest ein Buch – Finalvoting\nab 19 Uhr: VHS Bonn interaktiv: Säulen der Demokratie\n19 Uhr: Yannic Han Biao Federer „Für immer seh ich dich wieder“\n21 Uhr: Literatur-Quiz\n\nMehr Informationen zum Programm finden Sie auf der Website der Bonner Theaternacht \nIn Kooperation mit der Stadtbibliothek Bonn und der Volkshochschule Bonn \n\n\n\n\n			\n				\n				\n				\n				\n				Saal im Haus der Bildung\, Mülheimer Platz 1\, Bonn \nKarten für die gesamte Theaternacht inkl. Lesung über die Website der Bonner Theaternacht \n			\n				THEATERNACHT INKL. QUIZ
URL:https://literaturhaus-bonn.de/veranstaltung/literatur-quiz/
LOCATION:Saal im Haus der Bildung\, Bottlerplatz 1\, 53111 Bonn\, 53111\, Deutschland
CATEGORIES:BONNER THEATERNACHT
ATTACH;FMTTYPE=image/png:https://literaturhaus-bonn.de/wp-content/uploads/2025/04/LitQuiz-sw.png
END:VEVENT
END:VCALENDAR