BEGIN:VCALENDAR
VERSION:2.0
PRODID:-//Literaturhaus Bonn - ECPv6.15.18//NONSGML v1.0//EN
CALSCALE:GREGORIAN
METHOD:PUBLISH
X-ORIGINAL-URL:https://literaturhaus-bonn.de
X-WR-CALDESC:Veranstaltungen für Literaturhaus Bonn
REFRESH-INTERVAL;VALUE=DURATION:PT1H
X-Robots-Tag:noindex
X-PUBLISHED-TTL:PT1H
BEGIN:VTIMEZONE
TZID:Europe/Berlin
BEGIN:DAYLIGHT
TZOFFSETFROM:+0100
TZOFFSETTO:+0200
TZNAME:CEST
DTSTART:20240331T010000
END:DAYLIGHT
BEGIN:STANDARD
TZOFFSETFROM:+0200
TZOFFSETTO:+0100
TZNAME:CET
DTSTART:20241027T010000
END:STANDARD
BEGIN:DAYLIGHT
TZOFFSETFROM:+0100
TZOFFSETTO:+0200
TZNAME:CEST
DTSTART:20250330T010000
END:DAYLIGHT
BEGIN:STANDARD
TZOFFSETFROM:+0200
TZOFFSETTO:+0100
TZNAME:CET
DTSTART:20251026T010000
END:STANDARD
BEGIN:DAYLIGHT
TZOFFSETFROM:+0100
TZOFFSETTO:+0200
TZNAME:CEST
DTSTART:20260329T010000
END:DAYLIGHT
BEGIN:STANDARD
TZOFFSETFROM:+0200
TZOFFSETTO:+0100
TZNAME:CET
DTSTART:20261025T010000
END:STANDARD
END:VTIMEZONE
BEGIN:VEVENT
DTSTART;TZID=Europe/Berlin:20250408T190000
DTEND;TZID=Europe/Berlin:20250408T203000
DTSTAMP:20260421T045207
CREATED:20250325T091808Z
LAST-MODIFIED:20250403T065721Z
UID:15776178-1744138800-1744144200@literaturhaus-bonn.de
SUMMARY:EUROPA ERLESEN:BRÜSSEL IN REALITÄT UND FIKTION
DESCRIPTION:Moderation: Emily Grunert \nGemeinsam mit der österreichischen Autorin Theresia Töglhofer und dem österreichischen Schauspieler Lucas Englander werfen wir einen Blick darauf\, wie unsere europäische Demokratie aufgebaut ist\, wie sie medial dargestellt wird und welche Rolle besonders junge Menschen in ihr einnehmen. Dabei orientieren wir uns sowohl an Töglhofers Debütroman „Tatendrang“\, rund um eine Gruppe junger Praktikant*innen der Europäischen Außenzentrale\, die das vereinte Europa zu ihrer Spielwiese machen will und dabei selbst zum Spielball fragwürdiger Polit-Strategien wird als auch an der deutsch-französisch-belgischen Politsatire „Parlament“\, die den Alltag der Abgeordneten und Mitarbeiter*innen des Europäischen Parlaments aus der Sicht eines jungen parlamentarischen Assistenten abbildet und dabei nicht zuletzt von rasantem Arbeitstempo\, Leistungsdruck\, Idealismus und einer Grauzone zwischen Intrigen und Netzwerken erzählt. Zu Gast ist auch Louisa von Essen\, Mitglied der Jungen Europäischen Föderalist:innen NRW\, die aus eigener Erfahrung Einblicke in die Arbeit des Europäischen Parlaments geben wird.  \nTheresia Töglhofer\, geboren 1985 in Graz. Studium der Geschichte und der Internationalen Beziehungen in Graz und Paris\, dann Stationen in Belgrad\, Brüssel\, Wien\, Osijek und Berlin. Analystin für die Außen- und Erweiterungspolitik der EU. Zahlreiche Stipendien und Auszeichnungen. Theresia Töglhofer lebt in Berlin und in der Oststeiermark. Tatendrang ist ihr erster Roman. \nLucas Englander\, geboren 1992 in Wien\, studierte ein Jahr lang Schauspiel am Stella Adler Studio of Acting in New York City. In der Fernsehserie Parlament spielt er die Rolle von Torsten\, dem Assistenten der von Christiane Paul verkörperten Ingeborg. Der Schauspieler lebt in Österreich und ist an einer Vielzahl internationaler Produktionen beschäftigt. \nDie Veranstaltung ist Teil der Literaturreihe Europa erlesen\, die seit 2007 als Zusammenarbeit zwischen dem Literaturbüro NRW und der Staatskanzlei NRW stattfindet. Die Veranstaltung am 08. April findet in Kooperation mit dem Literaturhaus Bonn statt.\n\n\n\n			\n				\n				\n				\n				\n				Festsaal der Uni Bonn\, Am Hof 1\, BonnDer Eintritt ist frei. Um Anmeldung wird gebeten.  \n			\n				\n				\n				\n				\n				Foto links: Heike SteinwegFoto rechts: Marlon Hambrusch\n			\n				ANMELDUNG
URL:https://literaturhaus-bonn.de/veranstaltung/europa-erlesenbruessel-in-realitaet-und-fiktion/
LOCATION:Festsaal der Uni Bonn\, Am Hof 1\, Bonn\, NRW\, 53113
ATTACH;FMTTYPE=image/png:https://literaturhaus-bonn.de/wp-content/uploads/2025/03/ToegelhoferEnglander-sw.png
ORGANIZER;CN="Literaturhaus NRW in D%C3%BCsseldorf":MAILTO:info@literaturbuero-nrw.de
END:VEVENT
BEGIN:VEVENT
DTSTART;TZID=Europe/Berlin:20250412T180000
DTEND;TZID=Europe/Berlin:20250412T193000
DTSTAMP:20260421T045207
CREATED:20250320T130734Z
LAST-MODIFIED:20250324T075235Z
UID:15776096-1744480800-1744486200@literaturhaus-bonn.de
SUMMARY:KOELNER SCHMIEDE ABSCHLUSSLESUNG
DESCRIPTION:MIT LEH-WEI LIAO\, JULIA PFEIFER\, BEATRIX RINKE\, SUSANNE ROMANOWSKI\, PETER THIERS UND PAULA VAN WELL\n			\n				\n				\n				\n				\n				\n\nAls Textwerkstatt für deutschsprachige Autor*innen zwischen 18 und 35 Jahren fördert die KOELNER SCHMIEDE literarische Stimmen von morgen. \nÜber sechs Monate\, an drei Lektorats-Wochenenden und mit einer Abschlusslesung begleitet die KOELNER SCHMIEDE junge Autor*innen beim großen Schritt hin zur ersten Veröffentlichung. Professionelle Referent*innen unterstützen gemeinsam mit den Teilnehmenden dabei\, den Blick auf die eigenen Texte zu schärfen\, und geladene Gäste bieten Anknüpfungspunkte zum Literaturbetrieb. Zugleich belebt und bereichert die KOELNER SCHMIEDE das literarische Leben Nordrhein-Westfalens\, indem sie Nachwuchsprojekte fördert und mit dem Bundesland assoziiert. \nDen Jahrgang 2024/25 leiteten Julia von Lucadou und Denis Pfabe. Bei der Abschlusslesung stellen die Teilnehmer*innen die bearbeiteten Texte einem interessierten Publikum vor. \nGefördert von der Kunststiftung NRW und dem Ministerium für Kultur und Wissenschaft NRW \n\n\n			\n				\n				\n				\n				\n				Hallmackenreuther\, Brüsseler Platz 9\, KölnEintritt frei\, keine Anmeldung erforderlich \n			\n				\n				\n				\n				\n				Foto links nach rechts: Anne Pehla\, Yijian Zou\, privat\, Gurbet Barlas\, Sebastian Vetter\, Leila Fatima Keita
URL:https://literaturhaus-bonn.de/veranstaltung/koelner-schmiede-abschlusslesung-2/
LOCATION:Hallmackenreuther\, Köln\, Brüsseler Platz 9\, Köln\, 50674\, Germany
CATEGORIES:NRW-SCHREIBAKADEMIE
ATTACH;FMTTYPE=image/png:https://literaturhaus-bonn.de/wp-content/uploads/2025/03/Website_koelner_schmiede.png
END:VEVENT
BEGIN:VEVENT
DTSTART;TZID=Europe/Berlin:20250424T183000
DTEND;TZID=Europe/Berlin:20250424T203000
DTSTAMP:20260421T045207
CREATED:20250312T092932Z
LAST-MODIFIED:20250407T090544Z
UID:15776046-1745519400-1745526600@literaturhaus-bonn.de
SUMMARY:LESEZIRKEL»HEY GUTEN MORGEN\, WIE GEHT ES DIR?«MARTINA HEFTER [AUSGEBUCHT]
DESCRIPTION:Moderation: Judith Merchant \nLektüre sucht Auseinandersetzung\, Hintergrundwissen\, Debatte – das Literaturhaus Bonn sucht aktive Leser*innen mit Freude am Dialog. Unseren Mitgliedern bieten wir einen von der Bonner Autorin Judith Merchant geleiteten Lesezirkel an\, der Titel im Literaturhaus-Programm liest und diskutiert. Neuzugänge sind stets willkommen! \nGelesen und besprochen wird an diesem Termin »Hey guten Morgen\, wie geht es dir?« von Martina Hefter \n\n\n			\n				\n				\n				\n				\n				Café Camus\, Breite Str. 54-56\, Bonn\n9€ / Eintritt frei\n			\n				ANMELDEN
URL:https://literaturhaus-bonn.de/veranstaltung/lesezirkelhey-guten-morgen-wie-geht-es-dir/
LOCATION:Café Camus\, Breite Str. 54-56\, Bonn\, NRW\, 53111
CATEGORIES:LESEZIRKEL
ATTACH;FMTTYPE=image/png:https://literaturhaus-bonn.de/wp-content/uploads/2023/02/Logo_mit_Dreieick-1.png
END:VEVENT
BEGIN:VEVENT
DTSTART;TZID=Europe/Berlin:20250424T193000
DTEND;TZID=Europe/Berlin:20250424T210000
DTSTAMP:20260421T045207
CREATED:20250314T105642Z
LAST-MODIFIED:20250423T142533Z
UID:15776081-1745523000-1745528400@literaturhaus-bonn.de
SUMMARY:WORTREICH »HEY GUTEN MORGEN\, WIE GEHT ES DIR?«MARTINA HEFTER
DESCRIPTION:Moderation: Leonie Modler \nWenn du gern liest\, gern über aktuelle Bücher sprichst\, Gleichgesinnte suchst und zwischen 16 und 35 bist\, dann komm zu uns! Unter der Leitung von Buchhändlerin Leonie Modler lesen wir Werke der eingeladenen Autorinnen und Autoren. Wortreiches Diskutieren steht im Mittelpunkt! \nGelesen und besprochen wird an diesem Termin »HEY GUTEN MORGEN\, WIE GEHT ES DIR?« von Martina Hefter. \n\n\n			\n				\n				\n				\n				\n				buchladen 46\, Kaiserstraße 46\, BonnEintritt frei / 9 €Teilnahme nur nach vorheriger Anmeldung \n			\n			\n				\n				\n				\n				\n				\n			\n				\n				\n				\n				\n			\n				\n				\n				\n				\n				\n				\n				Anmeldung
URL:https://literaturhaus-bonn.de/veranstaltung/wortreich-martina-hefterhey-guten-morgen-wie-geht-es-dir/
LOCATION:buchladen 46\, Kaiserstraße 46\, Bonn\, 53115
CATEGORIES:WORTREICH
ATTACH;FMTTYPE=image/png:https://literaturhaus-bonn.de/wp-content/uploads/2023/02/Logo_mit_Dreieick-1.png
END:VEVENT
END:VCALENDAR