BEGIN:VCALENDAR
VERSION:2.0
PRODID:-//Literaturhaus Bonn - ECPv6.15.18//NONSGML v1.0//EN
CALSCALE:GREGORIAN
METHOD:PUBLISH
X-WR-CALNAME:Literaturhaus Bonn
X-ORIGINAL-URL:https://literaturhaus-bonn.de
X-WR-CALDESC:Veranstaltungen für Literaturhaus Bonn
REFRESH-INTERVAL;VALUE=DURATION:PT1H
X-Robots-Tag:noindex
X-PUBLISHED-TTL:PT1H
BEGIN:VTIMEZONE
TZID:Europe/Berlin
BEGIN:DAYLIGHT
TZOFFSETFROM:+0100
TZOFFSETTO:+0200
TZNAME:CEST
DTSTART:20230326T010000
END:DAYLIGHT
BEGIN:STANDARD
TZOFFSETFROM:+0200
TZOFFSETTO:+0100
TZNAME:CET
DTSTART:20231029T010000
END:STANDARD
BEGIN:DAYLIGHT
TZOFFSETFROM:+0100
TZOFFSETTO:+0200
TZNAME:CEST
DTSTART:20240331T010000
END:DAYLIGHT
BEGIN:STANDARD
TZOFFSETFROM:+0200
TZOFFSETTO:+0100
TZNAME:CET
DTSTART:20241027T010000
END:STANDARD
BEGIN:DAYLIGHT
TZOFFSETFROM:+0100
TZOFFSETTO:+0200
TZNAME:CEST
DTSTART:20250330T010000
END:DAYLIGHT
BEGIN:STANDARD
TZOFFSETFROM:+0200
TZOFFSETTO:+0100
TZNAME:CET
DTSTART:20251026T010000
END:STANDARD
END:VTIMEZONE
BEGIN:VEVENT
DTSTART;TZID=Europe/Berlin:20241007T190000
DTEND;TZID=Europe/Berlin:20241007T213000
DTSTAMP:20260420T163235
CREATED:20240722T150202Z
LAST-MODIFIED:20240816T064004Z
UID:15774775-1728327600-1728336600@literaturhaus-bonn.de
SUMMARY:MITHU SANYAL»ANTICHRISTIE«
DESCRIPTION:London 2022\, die Königin ist tot! An den Trauernden vorbei rennt Durga: internationale Drehbuchautorin\, Tochter eines Inders und einer Deutschen\, und voller Appetit auf Rebellion und Halluzinationen. Erzählte Mithu Sanyals gefeiertes Debüt „Identitti“ von Identitätspolitik\, fragt „Antichristie“ nach dem Kolonialismus und der Gewalt in uns allen. Durga soll an einer Verfilmung der überbritischen Agatha-Christie-Krimis mitarbeiten. Doch auf einmal ist es 1906\, und sie trifft indische Revolutionäre\, die keineswegs gewaltfrei wie Gandhi kämpfen. Und dann explodiert die erste Bombe. Was wäre richtiger Widerstand in einer falschen Welt? Niemand schreibt so aberwitzig\, klug und liebend wie Mithu Sanyal. „Antichristie“ bringt die ganze Welt in die deutschsprachige Literatur. \nIn der Reihe KlasseBuch werden Lesungen\, aufbauend auf Projektarbeit und Lektüre im Unterricht\, für Schüler*innen zum Live-Erlebnis\, an dem sie aktiv beteiligt sind. \nMithu Sanyal wurde 1971 in Düsseldorf geboren und ist Kulturwissenschaftlerin\, Autorin\, Journalistin und Kritikerin. 2009 erschien ihr Sachbuch „Vulva. Das unsichtbare Geschlecht“\, 2016 „Vergewaltigung. Aspekte eines Verbrechens“. 2021 erschien bei Hanser ihr erster Roman „Identitti“\, der auf der Shortlist des Deutschen Buchpreises war und mit dem Literaturpreis Ruhr und dem Ernst-Bloch-Preis 2021 ausgezeichnet wurde. \n  \nGefördert durch das Ministerium für Kultur und Wissenschaft NRW. \n			\n				\n				\n				\n				\n				Clara-Schumann-Gymnasium\, Loestraße 14\, Bonn\nKarten im VVK über Bonnticket 16€ / 8€ / 2\,50€ \, Abendkasse 18€ / 10€ / 3€\nEintritt frei für Schüler*innen\n \n			\n				TICKETS
URL:https://literaturhaus-bonn.de/veranstaltung/mithu-sanyalantichristie/
LOCATION:Clara-Schumann-Gymnasium\, Aula
CATEGORIES:KLASSEBUCH
ATTACH;FMTTYPE=image/png:https://literaturhaus-bonn.de/wp-content/uploads/2024/07/Sanyal-c-Carolin-Windel.png
END:VEVENT
BEGIN:VEVENT
DTSTART;TZID=Europe/Berlin:20241009T190000
DTEND;TZID=Europe/Berlin:20241009T210000
DTSTAMP:20260420T163235
CREATED:20240722T150202Z
LAST-MODIFIED:20240826T131939Z
UID:15774805-1728500400-1728507600@literaturhaus-bonn.de
SUMMARY:FELICITAS HOPPEEIN BILD SAGT MEHR ALS 1000 WORTE
DESCRIPTION:»Ein Bild sagt mehr als tausend Worte«\, heißt es – aber stimmt das? Sicher\, Bildeindrücke wirken scheinbar schneller\, eindringlicher. Ist nicht aber der Text präziser und detailreicher? Reicht seine Fähigkeit\, ganze fiktive Universen zu erschaffen\, nicht weiter? Was ist also dran am sprichwörtlichen Mehrwert des Bildes gegenüber dem Wort? \nImmer wieder hat die Schriftstellerin Felicitas Hoppe Texte über Bildende Kunst geschrieben. Mit höchst unterschiedlichen Werken und Künstlern wie Hans Holbein d.J.\, Breughel\, Mondrian\, Beuys u.a. sucht sie darin den Dialog. Im Gespräch mit dem Intendanten des Bonner Kunstmuseums\, Stephan Berg\, und Literaturhausleiterin Almuth Voß erzählt Hoppe von ihren Exkursen ins Museum: Welche Sprache ist ihr dort begegnet\, wie kommuniziert ein Bild mit einer Schriftstellerin und umgekehrt\, und kann es zwischen Text und Bild tatsächlich fruchtbaren Austausch geben? \nFelicitas Hoppe\, geb. 1960 in Hameln\, lebt als Schriftstellerin in Berlin. Zuletzt erschien ihr Roman »Die Nibelungen. Ein deutscher Stummfilm« (2021). Für ihr Werk wurde Hoppe mit zahlreichen Preisen ausgezeichnet\, u. a. mit dem aspekte-Literaturpreis\, dem Großen Preis des Deutschen Literaturfonds\, dem Bremer und dem Berliner Literaturpreis\, dem Georg-Büchner-Preis. Poetikdozenturen und Gastprofessuren hat sie weltweit in zahlreichen Städten bekleidet. \n  \nDie Veranstaltungsreihe »Literatur im Museum« ist eine Kooperation von Kunstmuseum und Literaturhaus Bonn und erkundet die Schnittstellen von Literatur und Bildender Kunst. \nGefördert von der Kunststiftung NRW \n\n\n			\n				\n				\n				\n				\n				Kunstmuseum Bonn\, Helmut-Kohl-Allee 2\, Bonn\nKarten im VVK über Bonnticket 16€ / 8€ / 2\,50€ \, Abendkasse 18€ / 10€ / 3€\n \n			\n				TICKETS
URL:https://literaturhaus-bonn.de/veranstaltung/felicitas-hoppeein-bild-sagt-mehr-als-1000-worte/
LOCATION:Kunstmuseum Bonn\, Helmut-Kohl-Allee 2\, Bonn
CATEGORIES:LITERATUR IM MUSEUM
ATTACH;FMTTYPE=image/png:https://literaturhaus-bonn.de/wp-content/uploads/2024/07/Felicitas-Hoppe-c-Anita-Affentranger.png
END:VEVENT
BEGIN:VEVENT
DTSTART;TZID=Europe/Berlin:20241010T193000
DTEND;TZID=Europe/Berlin:20241010T213000
DTSTAMP:20260420T163235
CREATED:20240920T150426Z
LAST-MODIFIED:20241010T100103Z
UID:15775175-1728588600-1728595800@literaturhaus-bonn.de
SUMMARY:LESEKREIS EDIZIONE ITALIANA:GIULIA CAMINITO»DAS GROSSE A«
DESCRIPTION:Moderation: Anna Valerius \nZum diesjährigen Gastland der Frankfurter Buchmesse Italien bieten wir zwei Termine zu italienischen Neuerscheinungen unter der Leitung der Lektorin und Literaturwissenschaftlerin Anna Valerius an. \nGelesen und besprochen wird an diesem Termin »Das große A« von Giulia Caminito. \n\n\n			\n				\n				\n				\n				\n				Bonner Verlags-Comptoir\, Wolfstraße 5\, 53111 Bonn9€ / Eintritt frei \n			\n				ANMELDUNG
URL:https://literaturhaus-bonn.de/veranstaltung/edizione-italianagiulia-caminitodas-grosse-a/
CATEGORIES:DIE FRANKFURTER BUCHMESSE IN BONN
ATTACH;FMTTYPE=image/png:https://literaturhaus-bonn.de/wp-content/uploads/2024/07/Website-Gastland.png
END:VEVENT
BEGIN:VEVENT
DTSTART;TZID=Europe/Berlin:20241014T190000
DTEND;TZID=Europe/Berlin:20241014T223000
DTSTAMP:20260420T163236
CREATED:20240722T150202Z
LAST-MODIFIED:20240917T140806Z
UID:15774815-1728932400-1728945000@literaturhaus-bonn.de
SUMMARY:ITALIEN: »VERWURZELT IN DER ZUKUNFT«MIT FRANCESCA MELANDRI\, IGIABA SCEGO & MATTIA INSOLIA
DESCRIPTION:DAS GASTLAND DER FRANKFURTER BUCHMESSE IN BONN\n			\n				\n				\n				\n				\n				\n\nModeration: Constanze Neumann\nLesung der deutschen Texte: Tatjana PasztorIn deutscher und italienischer Sprache\n \n\n»VERWURZELT IN DER ZUKUNFT« – Unter diesem Motto präsentiert sich das Gastland Italien auf der Frankfurter Buchmesse 2024. Erleben Sie das breite literarische Spektrum eines Landes\, in dem sich kreative Tradition und Aufbruchstimmung vereinen. Die reichhaltige\, traditionsreiche Kultur Italiens hat bis heute bereits fünf Nobelpreisträger hervorgebracht. Doch nicht nur dadurch zeichnet sie sich aus – ebenso durch ihre Vitalität und Vorwärtsgewandtheit. \nWie es gute Tradition ist\, stellt das Literaturhaus Bonn bereits am Vorabend der Messe namhafte Autor*innen und Texte aus dem Gastland vor. \nFrancesca Melandri\, geboren in Rom\, gehört zu den beliebtesten italienischen Autorinnen der Gegenwart. Melandri hat sich in Italien zunächst als Autorin von Drehbüchern für Kino- und Fernsehfilme einen Namen gemacht. Mit ihrem ersten Roman »Eva schläft« wurde sie auch einem breiten deutschsprachigen Lesepublikum bekannt. Ihr zweiter Roman »Über Meereshöhe« wurde von der italienischen Kritik als Meisterwerk gefeiert. Ihr dritter Roman »Alle\, außer mir« wurde 2018 zum Lieblingsbuch des unabhängigen Buchhandels gewählt\, erlebte zahlreiche Nachauflagen und stand zehn Wochen lang auf der SPIEGEL-Bestsellerliste. \nFrancesca Melandris »Kalte Füße« ist ein berührendes Zwiegespräch mit einem geliebten Menschen: ein unerschrockenes Buch über das\, was der Krieg gestern wie heute in Körpern und Köpfen anrichtet\, über das Erzählen als Überlebenskunst – und unsere historische Pflicht angesichts des Angriffs auf die Ukraine\, die Stille zum Sprechen zu bringen. \nIgiaba Scego wurde 1974 in Rom geboren und stammt aus einer somalischen Familie. Die Literatur und das Lesen bezeichnet sie selbst als ihren Rettungsanker:  »In Büchern habe ich meine Geschichte\, mich selbst und vor allem Afrika gefunden.« Scego studierte Literatur und Pädagogik\, heute schreibt die Autorin mehrerer Romane und Erzählungen auch für Zeitungen und Zeitschriften wie »L’Unità« und »Internazionale« und ist Herausgeberin mehrerer Anthologien \nWie erzählt man die Geschichte einer Familie\, wenn die gemeinsame Sprache in der Diaspora verloren geht? Wenn die Erinnerungen trügen und geliebte Verwandte seit Generationen in die ganze Welt zerstreut leben? In ihrem gefeierten autofiktiven Roman geht die große italienische Erzählerin Igiaba Scego auf Spurensuche zwischen Mogadischu und Rom. Sie erzählt von verloren geglaubten Müttern und wiedergefundenen Brüdern\, von einer Kindheit im Busch und der Schule in Rom-Nord\, von Verletzungen der Kolonialgeschichte\, die sich über die Generationen tragen – und von der großen Hoffnung\, die im erzählen liegt. \nMattia Insolia\, wurde 1995 in Catania geboren\, hat Literatur und Verlagswesen an der Sapienza in Rom studiert und vor seinem Roman bereits Kurzgeschichten in Anthologien veröffentlicht. Als Literatur- und Filmkritiker schreibt er u. a. für L’Indiependente. \n\nWinter 2019 – Niccolò ist Teenager\, er trinkt\, gibt sich unnahbar und handelt rücksichtslos. Ein adoleszenter Panzer gegen die süditalienische Hoffnungslosigkeit und seinen ausgelaugten\, gescheiterten Vater Riccardo. Als der ihn zu einem gemeinsamen Roadtrip überredet\, wird Niccolò mit der Vergangenheit seiner Eltern konfrontiert. Sommer 2000 – Teresa macht mit ihren Eltern Ferien in Camporotondo. Sie hat Träume\, ist neugierig und gleichzeitig verunsichert von der Welt um sie herum. Während des Urlaubs in Sizilien lernt sie Riccardo kennen. Er ist schön und verwegen\, sie verliebt sich. Eine verhängnisvolle Begegnung.\nIn Kooperation mit der Bundeskunsthalle und dem Italienzentrum der Romanistik der Uni Bonn. Gefördert durch den Deutschen Übersetzerfonds und die Kunststiftung NRW.\n\n			\n				\n				\n				\n				\n				Bundeskunsthalle\, Helmut-Kohl-Allee 4\, BonnKarten im VVK über Bonnticket 19€ / 12€ / 2\,50€ \, Abendkasse 21€ / 14€ / 3€ \n			\n				TICKETS
URL:https://literaturhaus-bonn.de/veranstaltung/italien-verwurzelt-in-der-zukunftmit-francesca-melandri-igiaba-scego-tba/
LOCATION:Bundeskunsthalle
CATEGORIES:DIE FRANKFURTER BUCHMESSE IN BONN
ATTACH;FMTTYPE=image/png:https://literaturhaus-bonn.de/wp-content/uploads/2024/07/Gastland-Autor-innen-c-F.Gallimard-S.Filippini-.png
END:VEVENT
BEGIN:VEVENT
DTSTART;VALUE=DATE:20241019
DTEND;VALUE=DATE:20241020
DTSTAMP:20260420T163236
CREATED:20240722T150202Z
LAST-MODIFIED:20240816T065302Z
UID:15774825-1729296000-1729382399@literaturhaus-bonn.de
SUMMARY:FAHRT ZUR FRANKFURTER BUCHMESSE
DESCRIPTION:Zum zweiten Mal bietet das Literaturhaus Bonn einen Ausflug zur Frankfurter Buchmesse an – diesmal in Zusammenarbeit mit dem Bonner Dietz-Verlag. \nBesuchen Sie die größte Buchmesse der Welt\, ohne sich Gedanken über Zugverbindungen\, Parkplätze und andere organisatorische Dinge machen zu müssen! Wir schnüren Ihnen ein Paket aus Hin- und Rückfahrt im Reisebus\, Messeeintritt\, Infos und Programmvorschlägen sowie einem Empfang am Messestand des Verlag J.H.W. Dietz Nachf. Danach steht Ihnen der Tag auf der Messe zur freien Verfügung. \nWir bitten um Verständnis dafür\, dass die Fahrt erst ab 20 Teilnehmenden stattfinden kann. \n			\n				\n				\n				\n				\n				Abfahrt um 8 Uhr ab Haus der Bildung\, Ecke Bottlerplatz 1\, BonnWeitere Details im AnmeldeformularKarten 75 € / für LHB-Mitglieder 45 € \n			\n				ANMELDEN
URL:https://literaturhaus-bonn.de/veranstaltung/fahrt-zur-frankfurter-buchmesse/
LOCATION:Treffpunkt: Bottlerplatz\, Bottlerplatz 1\, Bonn\, NRW\, 53111\, Deutschland
CATEGORIES:DIE FRANKFURTER BUCHMESSE IN BONN
ATTACH;FMTTYPE=image/png:https://literaturhaus-bonn.de/wp-content/uploads/2024/07/Buchmesse-sw.png
END:VEVENT
BEGIN:VEVENT
DTSTART;TZID=Europe/Berlin:20241022T190000
DTEND;TZID=Europe/Berlin:20241022T210000
DTSTAMP:20260420T163236
CREATED:20240912T142237Z
LAST-MODIFIED:20241010T071815Z
UID:15775110-1729623600-1729630800@literaturhaus-bonn.de
SUMMARY:LESEZIRKEL: [AUSGEBUCHT]FRANCESCA MELANDRI»ÜBER MEERESHÖHE«
DESCRIPTION:Moderation: Judith Merchant \nLektüre sucht Auseinandersetzung\, Hintergrundwissen\, Debatte – das Literaturhaus Bonn sucht aktive Leser*innen mit Freude am Dialog. Unseren Mitgliedern bieten wir einen von der Bonner Autorin Judith Merchant geleiteten Lesezirkel an\, der Titel im Literaturhaus-Programm liest und diskutiert. Neuzugänge sind stets willkommen! \nGelesen und besprochen wird an diesem Termin »Über Meereshöhe« von Francesca Melandri. \n\n\n			\n				\n				\n				\n				\n				Café Camus\, Breite Str. 54-56\, Bonn9€ / Eintritt frei
URL:https://literaturhaus-bonn.de/veranstaltung/lesezirkel-zusatzterminfrancesca-melandriueber-meereshoehe/
LOCATION:Café Camus\, Breite Str. 54-56\, Bonn\, NRW\, 53111
CATEGORIES:LESEZIRKEL
ATTACH;FMTTYPE=image/png:https://literaturhaus-bonn.de/wp-content/uploads/2023/02/Logo_mit_Dreieick-1.png
END:VEVENT
BEGIN:VEVENT
DTSTART;TZID=Europe/Berlin:20241024T193000
DTEND;TZID=Europe/Berlin:20241024T210000
DTSTAMP:20260420T163236
CREATED:20240722T135506Z
LAST-MODIFIED:20241024T161046Z
UID:15774850-1729798200-1729803600@literaturhaus-bonn.de
SUMMARY:WORTREICH: [AUSGEBUCHT]Francesca Melandri»ÜBER MEERESHÖHE«
DESCRIPTION:Moderation: Leonie Modler \nWenn du gern liest\, gern über aktuelle Bücher sprichst\, Gleichgesinnte suchst und zwischen 16 und 35 bist\, dann komm zu uns! Unter der Leitung von Buchhändlerin Leonie Modler lesen wir Werke der eingeladenen Autorinnen und Autoren. Wortreiches Diskutieren steht im Mittelpunkt! \nGelesen und besprochen wird an diesem Termin »Über Meereshöhe« von Francesca Melandri. \n\n\n			\n				\n				\n				\n				\n				Café CU\, Bornheimer Str. 57\, 53119 9€ / Eintritt frei \n			\n				\n				\n				\n				\n				\nDieser Termin ist bereits ausgebucht\, eine weitere Teilnahme ist leider nicht möglich. Bitte registrieren Sie sich für den LHB-Newsletter\, um über eventuelle Zusatztermine informiert zu bleiben.
URL:https://literaturhaus-bonn.de/veranstaltung/wortreichfrancesca-melandriueber-meereshoehe/
LOCATION:Café CU\, Bornheimer Str. 57\, Bonn\, NRW\, 53119\, Germany
CATEGORIES:WORTREICH
ATTACH;FMTTYPE=image/png:https://literaturhaus-bonn.de/wp-content/uploads/2023/02/Logo_mit_Dreieick-1.png
END:VEVENT
BEGIN:VEVENT
DTSTART;TZID=Europe/Berlin:20241028T183000
DTEND;TZID=Europe/Berlin:20241028T200000
DTSTAMP:20260420T163236
CREATED:20240722T140720Z
LAST-MODIFIED:20240930T101356Z
UID:15774877-1730140200-1730145600@literaturhaus-bonn.de
SUMMARY:LESEZIRKEL: [AUSGEBUCHT]SALMAN RUSHDIE»KNIFE«
DESCRIPTION:Moderation: Judith Merchant \nLektüre sucht Auseinandersetzung\, Hintergrundwissen\, Debatte – das Literaturhaus Bonn sucht aktive Leser*innen mit Freude am Dialog. Unseren Mitgliedern bieten wir einen von der Bonner Autorin Judith Merchant geleiteten Lesezirkel an\, der Titel im Literaturhaus-Programm liest und diskutiert. Neuzugänge sind stets willkommen! \nGelesen und besprochen wird an diesem Termin »Knife« von Salman Rushdie. \n\n\n			\n				\n				\n				\n				\n				Buchhandlung The Art of Books\, Bonner Talweg\, 28A\, Bonn9€ / Eintritt frei \n			\n				\n				\n				\n				\n				\nDieser Termin ist bereits ausgebucht\, eine weitere Teilnahme ist leider nicht möglich. Bitte registrieren Sie sich für den LHB-Newsletter\, um über eventuelle Zusatztermine informiert zu bleiben.
URL:https://literaturhaus-bonn.de/veranstaltung/lesezirkelsalman-rushdieknife/
LOCATION:The Art of Books\, Bonner Talweg 28a\, Bonn\, NRW\, 53113\, Deutschland
CATEGORIES:LESEZIRKEL
ATTACH;FMTTYPE=image/png:https://literaturhaus-bonn.de/wp-content/uploads/2023/02/Logo_mit_Dreieick-1.png
END:VEVENT
END:VCALENDAR