BEGIN:VCALENDAR
VERSION:2.0
PRODID:-//Literaturhaus Bonn - ECPv6.15.18//NONSGML v1.0//EN
CALSCALE:GREGORIAN
METHOD:PUBLISH
X-ORIGINAL-URL:https://literaturhaus-bonn.de
X-WR-CALDESC:Veranstaltungen für Literaturhaus Bonn
REFRESH-INTERVAL;VALUE=DURATION:PT1H
X-Robots-Tag:noindex
X-PUBLISHED-TTL:PT1H
BEGIN:VTIMEZONE
TZID:Europe/Berlin
BEGIN:DAYLIGHT
TZOFFSETFROM:+0100
TZOFFSETTO:+0200
TZNAME:CEST
DTSTART:20230326T010000
END:DAYLIGHT
BEGIN:STANDARD
TZOFFSETFROM:+0200
TZOFFSETTO:+0100
TZNAME:CET
DTSTART:20231029T010000
END:STANDARD
BEGIN:DAYLIGHT
TZOFFSETFROM:+0100
TZOFFSETTO:+0200
TZNAME:CEST
DTSTART:20240331T010000
END:DAYLIGHT
BEGIN:STANDARD
TZOFFSETFROM:+0200
TZOFFSETTO:+0100
TZNAME:CET
DTSTART:20241027T010000
END:STANDARD
BEGIN:DAYLIGHT
TZOFFSETFROM:+0100
TZOFFSETTO:+0200
TZNAME:CEST
DTSTART:20250330T010000
END:DAYLIGHT
BEGIN:STANDARD
TZOFFSETFROM:+0200
TZOFFSETTO:+0100
TZNAME:CET
DTSTART:20251026T010000
END:STANDARD
END:VTIMEZONE
BEGIN:VEVENT
DTSTART;TZID=Europe/Berlin:20240821T190000
DTEND;TZID=Europe/Berlin:20240821T210000
DTSTAMP:20260420T165038
CREATED:20240514T080732Z
LAST-MODIFIED:20240812T163707Z
UID:15774473-1724266800-1724274000@literaturhaus-bonn.de
SUMMARY:BERTOLT BRECHT // HELENE WEIGEL  »ich lerne: gläser + tassen spülen«  LESUNG MIT BERND BRAUN UND BIRTE SCHREIN
DESCRIPTION:Als Vorprogramm zu den Bonner Tagen des Exils bringen Literaturhaus\, Stadtbibliothek und Volkshochschule Bonn im Haus der Bildung die Stimmen von Bert Brecht und Helene Weigel auf die Bühne. Denn während der NS-Herrschaft teilten die beiden als politisch Verfolgte viele Jahre lang das Schicksal heutiger Geflohener. Nach dem Entkommen aus Deutschland Anfang 1933 war das Paar zu immer neuen Umzügen gezwungen; von Prag\, Wien\, Zürich nach Dänemark\, später Schweden und Finnland\, schließlich USA. Beide stets auf der Suche nach Arbeits- und Verdienstmöglichkeiten\, mussten Brecht und Weigel sich immer wieder trennen. Eindrücklich spricht aus ihrer Korrespondenz die Mühsal einer Familie im Exil: zwei Kinder\, die ihre Muttersprache nur noch zu Hause hören\, die Nöte einer Schauspielerin\, die ihre Bühnen\, eines Autors\, der seinen Resonanzraum verloren hat. \nBis der von Erdmut Wizisla herausgegebene Briefwechsel 2012 erstmals erschien\, war er weitgehend unbekannt – insbesondere der Anteil Helene Weigels. Bernd Braun und Birte Schrein\, seit langem Ensemblemitglieder von Theater Bonn\, lassen ihn in ihrer Lesung lebendig werden. \n»Liebe Helli\,ich lerne: gläser + tassen spülen\, boden fegen\, abfälle wegschaffen\, rühreier und suppen machen\, alles als autodidakt. Ich fühle mich dir sehr gewogen\, wenn ich gläser spüle\, daß du das nun so lange gemacht hast\, unter anderem.« \nEine Kooperation von Literaturhaus Bonn\, Stadtbibliothek und Volkshochschule Bonn \n			\n				\n				\n				\n				\n				Saal im Haus der Bildung\, Mülheimer Platz 1\, BonnKarten im VVK in Kürze über Bonnticket 16€ / 8€ / 2\,50€\, Abendkasse 18€ / 10€ / 3€ \n			\n				TICKETS
URL:https://literaturhaus-bonn.de/veranstaltung/bertolt-brecht-helene-weigel-ich-lerne-glaeser-tassen-spuelen-lesung-mit-bernd-braun-und-birte-schrein/
LOCATION:Saal im Haus der Bildung\, Bottlerplatz 1\, 53111 Bonn\, 53111\, Deutschland
CATEGORIES:TAGE DES EXILS
ATTACH;FMTTYPE=image/png:https://literaturhaus-bonn.de/wp-content/uploads/2024/05/EXIL-c-Thilo-Beu-Suhrkamp.png
END:VEVENT
BEGIN:VEVENT
DTSTART;TZID=Europe/Berlin:20240831T110000
DTEND;TZID=Europe/Berlin:20240831T120000
DTSTAMP:20260420T165038
CREATED:20240327T151103Z
LAST-MODIFIED:20240708T124033Z
UID:15769996-1725102000-1725105600@literaturhaus-bonn.de
SUMMARY:LIT.SPAZIERGANG
DESCRIPTION:Wir werden Teil der Bonner Altstadt und führen Sie ins Modellquartier der Inneren Nordstadt\, das – neben dem Combahnviertel – als lebendiger Raum für Menschen in Bonn nachhaltige Begegnungen schaffen soll. \nGemeinsam betrachten wir das Viertel mittels der Stimmen und Texte Bonner Autor*innen\, denen wir über Kopfhörer lauschen werden. Während eines Spaziergangs entlang einer festgelegten Route von der Innenstadt bis in die Innere Nordstadt werden die Stadt unser Museum und ein Text-Musik-Mix mit Bonn-Bezug unser Audioguide sein. \nZu hören sind: Dominik Dombrowski\, Gisbert Haefs\, Monika Littau\, Kim Mapute-Sanchez\, Denis Pfabe\, Angela Steidele und Sabine Trinkaus. \nIn Kooperation mit Darius Roncoszek \n			\n				\n				\n				\n				\n				Dauer ca. 70 Minuten\, keine Anmeldung erforderlichTreffpunkt: Bottlerplatz 1\, 53111 BonnDie Teilnahme ist kostenlos\, um Spenden wird gebeten
URL:https://literaturhaus-bonn.de/veranstaltung/lit-spaziergang/
LOCATION:Bonner Altstadt
ATTACH;FMTTYPE=image/jpeg:https://literaturhaus-bonn.de/wp-content/uploads/2024/03/Altstadt-sw.jpg
END:VEVENT
END:VCALENDAR