BEGIN:VCALENDAR
VERSION:2.0
PRODID:-//Literaturhaus Bonn - ECPv6.15.18//NONSGML v1.0//EN
CALSCALE:GREGORIAN
METHOD:PUBLISH
X-WR-CALNAME:Literaturhaus Bonn
X-ORIGINAL-URL:https://literaturhaus-bonn.de
X-WR-CALDESC:Veranstaltungen für Literaturhaus Bonn
REFRESH-INTERVAL;VALUE=DURATION:PT1H
X-Robots-Tag:noindex
X-PUBLISHED-TTL:PT1H
BEGIN:VTIMEZONE
TZID:Europe/Berlin
BEGIN:DAYLIGHT
TZOFFSETFROM:+0100
TZOFFSETTO:+0200
TZNAME:CEST
DTSTART:20230326T010000
END:DAYLIGHT
BEGIN:STANDARD
TZOFFSETFROM:+0200
TZOFFSETTO:+0100
TZNAME:CET
DTSTART:20231029T010000
END:STANDARD
BEGIN:DAYLIGHT
TZOFFSETFROM:+0100
TZOFFSETTO:+0200
TZNAME:CEST
DTSTART:20240331T010000
END:DAYLIGHT
BEGIN:STANDARD
TZOFFSETFROM:+0200
TZOFFSETTO:+0100
TZNAME:CET
DTSTART:20241027T010000
END:STANDARD
BEGIN:DAYLIGHT
TZOFFSETFROM:+0100
TZOFFSETTO:+0200
TZNAME:CEST
DTSTART:20250330T010000
END:DAYLIGHT
BEGIN:STANDARD
TZOFFSETFROM:+0200
TZOFFSETTO:+0100
TZNAME:CET
DTSTART:20251026T010000
END:STANDARD
END:VTIMEZONE
BEGIN:VEVENT
DTSTART;TZID=Europe/Berlin:20240326T150000
DTEND;TZID=Europe/Berlin:20240404T190000
DTSTAMP:20260421T001559
CREATED:20240301T100746Z
LAST-MODIFIED:20240305T113010Z
UID:15773959-1711465200-1712257200@literaturhaus-bonn.de
SUMMARY:OSTERFERIEN-WORKSHOP»Schreiben\, schneiden\, kleben – Collagen erstellen und präsentieren«
DESCRIPTION:für 10 – 14-Jährige26. – 28.03. und 02. – 04.04.\, täglich von 15 – 19 UhrLeitung: Denis Pfabe \n			\n				\n				\n				\n				\n				Ihr wolltet schon immer eure eigenen Geschichten erzählen? Mit der Kunst des Collagierens ist das möglich – mit Schere\, Kleber und Fantasie zerschneidet ihr Texte und Bilder und fügt sie nach euren Vorstellungen wieder zusammen. Im Anschluss plant ihr eure eigene Ausstellung und präsentiert im Jugendzentrum eure Collagen! \nMit Unterstützung des BAUHAUS Fachcentrums in Bonn-Beuel \nGefördert durch das Kulturamt der Stadt Bonn \n			\n				\n				\n				\n				\n				Jugendzentrum Dransdorf\, Grootestr. 19\, BonnTeilnahme kostenlosAnmeldung unter: info@literaturhaus-bonn.de
URL:https://literaturhaus-bonn.de/veranstaltung/osterferien-workshopschreiben-schneiden-kleben-collagen-erstellen-und-praesentieren/
LOCATION:Jugendzentrum Dransdorf\, Grootestr. 19\, Bonn\, 53121
CATEGORIES:KULTURRUCKSACK NRW
ATTACH;FMTTYPE=image/png:https://literaturhaus-bonn.de/wp-content/uploads/2024/03/sw-Webseite-.png
END:VEVENT
BEGIN:VEVENT
DTSTART;TZID=Europe/Berlin:20240409T190000
DTEND;TZID=Europe/Berlin:20240409T200000
DTSTAMP:20260421T001559
CREATED:20240328T125800Z
LAST-MODIFIED:20240403T075304Z
UID:15774113-1712689200-1712692800@literaturhaus-bonn.de
SUMMARY:LESEZIRKEL:Han Kang»GRIECHISCHSTUNDEN«[AUSGEBUCHT]
DESCRIPTION:Moderation: Judith Merchant \nLektüre sucht Auseinandersetzung\, Hintergrundwissen\, Debatte – das Literaturhaus Bonn sucht aktive Leser*innen mit Freude am Dialog. Unseren Mitgliedern bieten wir einen von der Bonner Autorin Judith Merchant geleiteten Lesezirkel an\, der Titel im Literaturhaus-Programm liest und diskutiert. Neuzugänge sind stets willkommen! \nGelesen und besprochen wird an diesem Termin »GRIECHISCHSTUNDEN« von Han Kang. \n\n\n			\n				\n				\n				\n				\n				Buchhandlung The Art of Books\, Bonner Talweg\, 28A\, BonnAnmeldung unter mitlesen@literaturhaus-bonn.de \n			\n			\n				\n				\n				\n				\n				\n			\n				\n				\n				\n				\n			\n				\n				\n				\n				\n				\n				\n				ANMELDEN
URL:https://literaturhaus-bonn.de/veranstaltung/lesezirkelhand-kanggriechischstunden/
LOCATION:The Art of Books\, Bonner Talweg 28a\, Bonn\, NRW\, 53113\, Deutschland
CATEGORIES:LESEZIRKEL
ATTACH;FMTTYPE=image/png:https://literaturhaus-bonn.de/wp-content/uploads/2023/02/Logo_mit_Dreieick-1.png
END:VEVENT
BEGIN:VEVENT
DTSTART;TZID=Europe/Berlin:20240421T110000
DTEND;TZID=Europe/Berlin:20240421T143000
DTSTAMP:20260421T001559
CREATED:20240327T151103Z
LAST-MODIFIED:20240419T125429Z
UID:15774022-1713697200-1713709800@literaturhaus-bonn.de
SUMMARY:FRANZ KAFKA // MICHAELKUMPFMÜLLER »DIE HERRLICHKEIT DES LEBENS«
DESCRIPTION:Film- und Buchgespräch mit Michael Kumpfmüller\, Jan Valk und Alexander Kling \nIm Sommer 1923 lernt der tuberkulosekranke Franz Kafka\, als Dichter nur Eingeweihten bekannt\, in einem Ostseebad die 25-jährige Köchin Dora Diamant kennen. Und innerhalb weniger Wochen tut er\, was er nicht für möglich gehalten hat: Er entscheidet sich für das Zusammenleben mit einer Frau\, teilt Tisch und Bett mit Dora. In Berlin wagt er mit ihr das gemeinsame Leben\, mitten in der Hyperinflation der Weimarer Republik. Den täglich kletternden Preisen\, den wechselnden Untermietquartieren\, den argwöhnischen Eltern zum Trotz: Bis zu seinem Tod im Juni 1924 werden sich Franz Kafka und Dora Diamant\, von wenigen Tagen abgesehen\, nicht mehr trennen. \nAus dieser wahren Geschichte hat Michael Kumpfmüller einen feinsinnigen\, behutsamen und kenntnisreichen Liebesroman gemacht. Kafkas Tagebücher\, seine Briefe und letzten Texte kennt er genau und webt sie zart in die Erzählung ein. Aber ebenso sehr widmet er sich Doras Sicht\, dem Blick der verliebten jungen Frau auf ihren rätselhaften\, sterbenden Mann. Und so gelingt Kumpfmüller eine tief anrührende Parabel über das Leben und die Liebe\, das Schreiben und den Tod. \nDer Bestseller »Die Herrlichkeit des Lebens« von Michael Kumpfmüller wurde von Georg Maas und Judith Kaufmann verfilmt und wird ab 14. März in den Kinos zu sehen sein. Michael Kumpfmüller arbeitete hier auch mit am Drehbuch und begleitete die Dreharbeiten. Im 2024 stattfindenden Kafka-Jahr\, kombinieren wir in unserer Veranstaltung das Erlebnis des Kinobesuchs mit einem Gespräch von Michael Kumpfmüller\, seinem früheren Lektor Jan Valk und dem Bonner Kafka-Spezialisten Alexander Kling und betrachten den Begriff der Romanverfilmung aus einem neuen Blickwinkel. \nIn Kooperation mit der Deutschen Kafka-Gesellschaft e.V.\, dem Institut für Germanistik\, Vergleichende Literatur- und Kulturwissenschaften (IGLK) der Universität Bonn\, der Alanus Hochschule für Kunst und Gesellschaft sowie dem Rex-Lichtspieltheater.\n			\n				\n				\n				\n				\n				Rex-Lichtspieltheater\, Frongasse 9\, Bonn\nKarten für Film+Lesung im VVK über das Kino für 18€ / 13€ / 11€ zzgl. Gebühren\nTickets ohne Film ausschließlich an der Abendkasse ab 13 Uhr für 18€ / 10€ / 3€\n			\n				TICKETS
URL:https://literaturhaus-bonn.de/veranstaltung/franz-kafka-michael-kumpfmueller-die-herrlichkeit-des-lebens/
LOCATION:Rex-Lichtspieltheater\, Frongasse 9\, Bonn\, NRW\, 53121
CATEGORIES:BUCH & FILM
ATTACH;FMTTYPE=image/png:https://literaturhaus-bonn.de/wp-content/uploads/2024/03/Design-ohne-Titel11.png
END:VEVENT
BEGIN:VEVENT
DTSTART;TZID=Europe/Berlin:20240425T193000
DTEND;TZID=Europe/Berlin:20240425T210000
DTSTAMP:20260421T001559
CREATED:20240328T132043Z
LAST-MODIFIED:20240328T141317Z
UID:15774102-1714073400-1714078800@literaturhaus-bonn.de
SUMMARY:WORTREICH:DINÇER GÜÇYETER»UNSER DEUTSCHLANDMÄRCHEN«
DESCRIPTION:Moderation: Leonie Modler \nWenn du gern liest\, gern über aktuelle Bücher sprichst\, Gleichgesinnte suchst und zwischen 16 und 35 bist\, dann komm zu uns! Unter der Leitung von Buchhändlerin Leonie Modler lesen wir Werke der eingeladenen Autorinnen und Autoren. Wortreiches Diskutieren steht im Mittelpunkt! \nGelesen und besprochen wird an diesem Termin »UNSER DEUTSCHLANDMÄRCHEN« von DINÇER GÜÇYETER \n\n\n			\n				\n				\n				\n				\n				Banks van Liz\, Breite Straße 60\, BonnBreite Straße 54-56\, Anmeldung unter mitlesen@literaturhaus-bonn.de \n			\n			\n				\n				\n				\n				\n				\n			\n				\n				\n				\n				\n			\n				\n				\n				\n				\n				\n				\n				ANMELDEN
URL:https://literaturhaus-bonn.de/veranstaltung/wortreichdincer-guecyeterunser-deutschlandmaerchen/
LOCATION:Banks van Liz\, Breite Straße 60\, Bonn\, NRW\, 53111\, Deutschland
CATEGORIES:WORTREICH
ATTACH;FMTTYPE=image/png:https://literaturhaus-bonn.de/wp-content/uploads/2023/02/Logo_mit_Dreieick-1.png
END:VEVENT
BEGIN:VEVENT
DTSTART;TZID=Europe/Berlin:20240426T190000
DTEND;TZID=Europe/Berlin:20240426T210000
DTSTAMP:20260421T001559
CREATED:20240327T151103Z
LAST-MODIFIED:20240410T080836Z
UID:15774039-1714158000-1714165200@literaturhaus-bonn.de
SUMMARY:Dinçer Güçyeter»UNSER DEUTSCHLANDMÄRCHEN«
DESCRIPTION:Moderation: Judith Merchant \n»Unser Deutschlandmärchen« erstreckt sich vom Anfang des letzten Jahrhunderts bis beinah in die Jetztzeit. Dinçer Güçyeter lässt nichts aus\, keine Vergewaltigung\, kein Missverständnis\, keinen Konflikt am Arbeitsplatz\, ganz gleich ob in der Schuhfabrik\, beim Bauern auf dem Feld oder in der eigenen Kneipe. Und dann ist da noch die Erwartung der Mutter an den heranwachsenden Sohn\, der ihr als starker Mann zur Seite stehen soll\, selbst jedoch eine gänzlich andere Vorstellung von einem erfüllten Leben hat. \nDieser preisgekrönte Roman ist eine Familiengeschichte in vielen Stimmen. Frauen mehrerer Generationen und der in Almanya geborene Sohn erinnern sich in poetischen\, oft mythischen\, kräftigen Bildern und in Monologen\, Dialogen\, Träumen\, Gebeten\, Chören. \nDinçer Güçyeter\, geboren 1979 in Nettetal\, ist ein deutscher Theatermacher\, Lyriker\, Herausgeber und Verleger. Von 1996 bis 2000 absolvierte er eine Ausbildung als Werkzeugmechaniker\, zwischenzeitlich war er als Gastronom tätig. Im Jahr 2012 gründete Güçyeter den ELIF Verlag mit dem Programmschwerpunkt Lyrik. Seinen Verlag finanziert Güçyeter bis heute als Gabelstaplerfahrer in Teilzeit. 2022 wurde Güçyeter mit dem Peter-Huchel-Preis ausgezeichnet. Für »Unser Deutschlandmärchen« erhielt er 2023 den Preis der Leipziger Buchmesse. Er ist Vater von zwei Kindern und lebt in Nettetal. \nGefördert durch die F. Victor Rolff-Stiftung \n			\n				\n				\n				\n				\n				Collegium Leoninum\, Noeggerathstr. 34\, BonnKarten im VVK über Bonnticket 16€ / 8€ / 2\,50€ \, Abendkasse 18€ / 10€/ 3€ \n			\n				TICKETS
URL:https://literaturhaus-bonn.de/veranstaltung/dincer-gueceterunser-deutschlandmaerchen/
LOCATION:Collegium Leoninum\, Alte Kirche
CATEGORIES:AUSGEZEICHNET
ATTACH;FMTTYPE=image/png:https://literaturhaus-bonn.de/wp-content/uploads/2024/03/Guecyeter-c-Palagrafie.png
END:VEVENT
END:VCALENDAR