BEGIN:VCALENDAR
VERSION:2.0
PRODID:-//Literaturhaus Bonn - ECPv6.15.18//NONSGML v1.0//EN
CALSCALE:GREGORIAN
METHOD:PUBLISH
X-WR-CALNAME:Literaturhaus Bonn
X-ORIGINAL-URL:https://literaturhaus-bonn.de
X-WR-CALDESC:Veranstaltungen für Literaturhaus Bonn
REFRESH-INTERVAL;VALUE=DURATION:PT1H
X-Robots-Tag:noindex
X-PUBLISHED-TTL:PT1H
BEGIN:VTIMEZONE
TZID:Europe/Berlin
BEGIN:DAYLIGHT
TZOFFSETFROM:+0100
TZOFFSETTO:+0200
TZNAME:CEST
DTSTART:20250330T010000
END:DAYLIGHT
BEGIN:STANDARD
TZOFFSETFROM:+0200
TZOFFSETTO:+0100
TZNAME:CET
DTSTART:20251026T010000
END:STANDARD
BEGIN:DAYLIGHT
TZOFFSETFROM:+0100
TZOFFSETTO:+0200
TZNAME:CEST
DTSTART:20260329T010000
END:DAYLIGHT
BEGIN:STANDARD
TZOFFSETFROM:+0200
TZOFFSETTO:+0100
TZNAME:CET
DTSTART:20261025T010000
END:STANDARD
BEGIN:DAYLIGHT
TZOFFSETFROM:+0100
TZOFFSETTO:+0200
TZNAME:CEST
DTSTART:20270328T010000
END:DAYLIGHT
BEGIN:STANDARD
TZOFFSETFROM:+0200
TZOFFSETTO:+0100
TZNAME:CET
DTSTART:20271031T010000
END:STANDARD
END:VTIMEZONE
BEGIN:VEVENT
DTSTART;TZID=Europe/Berlin:20260421T190000
DTEND;TZID=Europe/Berlin:20260421T210000
DTSTAMP:20260421T012429
CREATED:20260228T142820Z
LAST-MODIFIED:20260402T095920Z
UID:15777733-1776798000-1776805200@literaturhaus-bonn.de
SUMMARY:KALEB ERDMANN»DIE AUSWEICHSCHULE«
DESCRIPTION:Am letzten Tag der Abiturprüfungen im Jahr 2002 fallen Schüsse im Erfurter Gutenberg-Gymnasium. Unser Erzähler erlebt diesen Tag als Elfjähriger\, wird mit seinen Mitschülern evakuiert und registriert in den folgenden Wochen die Hilflosigkeit der Erwachsenen im Angesicht dieser Tat. Mehr als zwanzig Jahre später bricht das Ereignis völlig unerwartet erneut in sein Leben ein und löst eine obsessive Beschäftigung mit dem Sujet aus\, die in ein Romanprojekt resultieren soll. Aber warum nach so vielen Jahren alte Wunden aufreißen? Hat er ein Recht dazu? Wie verhält es sich mit seinen Erinnerungen\, welche Geschichten hat er so häufig erzählt\, dass sie wahr wurden? \nKaleb Erdmanns Roman „Die Ausweichschule“ ist ein gekonntes Spiel mit Perspektiven\, ein Stück Autofiktion\, das gleichermaßen publikumskritisch (wie voyeuristisch ist unser Interesse an der Aufarbeitung von Gewalttaten?) wie autokritisch ist (was gibt mir das Recht\, über diesen Tag zu schreiben?). Ein pointierter\, persönlicher\, erschütternder Text über ein Phänomen\, das uns weltweit umtreibt. \nKaleb Erdmann\, Jahrgang 1991\, studierte Literarisches Schreiben am Deutschen Literaturinstitut Leipzig\, sowie Soziologie und Politische Theorie in München und Frankfurt am Main. Er war Finalist des open mike\, wurde für sein Theaterstück „Unten“ für den Retzhofer Dramapreis nominiert und war als Autor und Redakteur Teil verschiedener Fernseh- und Unterhaltungsformate. Sein erster Roman „wir sind pioniere“ wurde mit dem Debütpreis der LitCologne ausgezeichnet. „Die Ausweichschule“ stand auf der Shortlist für den Deutschen Buchpreis 2025. Kaleb Erdmann lebt und arbeitet in Düsseldorf. \nDie KlasseBuch-Reihe ist eine Kooperation mit Bonner Schulen\, die ausdrücklich auch für außerschulisches Publikum und alle Interessierten geöffnet ist. Aufbauend auf Projektarbeit und Lektüre im Unterricht\, wird die Veranstaltung für Schüler*innen zum Live-Literaturerlebnis\, an dem sie aktiv beteiligt sind. \nGefördert durch das Ministerium für Kultur und Wissenschaft NRW \n			\n				\n				\n				\n				\n				Clara-Schumann-Gymnasium\, Loestr. 14\, BonnKarten im VVK über Bonnticket 16€ / 8€ / 2\,50€\, Abendkasse 18€ / 10€ / 3€\, Eintritt frei für alle Schüler*innen \n			\n				\n				\n				\n				\n				Foto: Jakob Kielgaß\n			\n				TICKETS
URL:https://literaturhaus-bonn.de/veranstaltung/kaleb-erdmanndie-ausweichschule/
LOCATION:Clara-Schumann-Gymnasium\, Aula
CATEGORIES:KLASSEBUCH
ATTACH;FMTTYPE=image/png:https://literaturhaus-bonn.de/wp-content/uploads/2026/02/SW_Erdmann-c-Jakob-Kielgass.png
END:VEVENT
END:VCALENDAR