BEGIN:VCALENDAR
VERSION:2.0
PRODID:-//Literaturhaus Bonn - ECPv6.15.18//NONSGML v1.0//EN
CALSCALE:GREGORIAN
METHOD:PUBLISH
X-ORIGINAL-URL:https://literaturhaus-bonn.de
X-WR-CALDESC:Veranstaltungen für Literaturhaus Bonn
REFRESH-INTERVAL;VALUE=DURATION:PT1H
X-Robots-Tag:noindex
X-PUBLISHED-TTL:PT1H
BEGIN:VTIMEZONE
TZID:Europe/Berlin
BEGIN:DAYLIGHT
TZOFFSETFROM:+0100
TZOFFSETTO:+0200
TZNAME:CEST
DTSTART:20240331T010000
END:DAYLIGHT
BEGIN:STANDARD
TZOFFSETFROM:+0200
TZOFFSETTO:+0100
TZNAME:CET
DTSTART:20241027T010000
END:STANDARD
BEGIN:DAYLIGHT
TZOFFSETFROM:+0100
TZOFFSETTO:+0200
TZNAME:CEST
DTSTART:20250330T010000
END:DAYLIGHT
BEGIN:STANDARD
TZOFFSETFROM:+0200
TZOFFSETTO:+0100
TZNAME:CET
DTSTART:20251026T010000
END:STANDARD
BEGIN:DAYLIGHT
TZOFFSETFROM:+0100
TZOFFSETTO:+0200
TZNAME:CEST
DTSTART:20260329T010000
END:DAYLIGHT
BEGIN:STANDARD
TZOFFSETFROM:+0200
TZOFFSETTO:+0100
TZNAME:CET
DTSTART:20261025T010000
END:STANDARD
END:VTIMEZONE
BEGIN:VEVENT
DTSTART;TZID=Europe/Berlin:20250513T190000
DTEND;TZID=Europe/Berlin:20250513T203000
DTSTAMP:20260421T075047
CREATED:20250325T074544Z
LAST-MODIFIED:20250429T111857Z
UID:15776115-1747162800-1747168200@literaturhaus-bonn.de
SUMMARY:30 JAHRE EDITION MEMORIAMIT THOMAS B. SCHUMANN
DESCRIPTION:Moderation: Thomas Kliemann \nEin kleiner Verlag mit großer Aufgabe: Seit 1995 publiziert Thomas B. Schumann in seiner Edition Memoria deutsche Exilliteratur und -kunst – d.h. Werke\, deren Verfasser*innen von der nationalsozialistischen Gewaltherrschaft ins Exil gezwungen wurden. Unter den mittlerweile rund 40 veröffentlichten Autor*innen finden sich bekannte Namen wie Judith Kerr\, Elisabeth Mann Borgese oder Georg Kreisler. Daneben zahlreiche andere wie Jo Mihaly und René Halkett\, die – gerade angesichts heutiger Flucht- und Exil-Szenarien – von der breiteren Öffentlichkeit noch zu entdecken sind. \nModeriert von Thomas Kliemann\, Kunsthistoriker und Feuilleton-Chef des Bonner General-Anzeigers\, erzählt Thomas B. Schumann aus 30 Jahren Verlagsgeschichte: Wie alles mit einer frühen Begegnung mit Katia Mann begann\, von den Herausforderungen seines Einmann-Betriebs und welche Rolle seine Sammlung im von der Stadt Bonn geplanten „Forum Exilkultur“ spielen soll. \nThomas B. Schumann\, 1950 in Köln geboren\, arbeitete im Buchhandel und studierte Germanistik und Geschichte in Bonn\, Köln und München. Er ist Herausgeber\, Publizist\, Vortragsreferent und Ausstellungkurator; war journalistisch u.a. für FAZ\, NZZ und Die Zeit tätig. Er besitzt die wohl umfangreichste private Sammlung zur deutschen Exilkultur (diverse Nachlässe\, Bilder\, Bücher\, Manuskripte\, Dokumente). 2017 ehrte ihn das PEN-Zentrum Deutschland mit dem Hermann-Kesten-Preis. Schumanns Edition Memoria feiert 2025 30. Geburtstag und ist der einzige deutsche Verlag\, der ausschließlich Exilliteratur veröffentlicht. \n\nIn Kooperation mit der Stadtbibliothek Bonn\n\n\n\n			\n				\n				\n				\n				\n				Saal im Haus der Bildung\, Mülheimer Platz 1\, BonnKarten im VVK über Bonnticket 16€ / 12\,80€ / 8€ / 2\,50€\, Abendkasse 18€ / 14€ / 10€ / 3€ \n			\n				\n				\n				\n				\n				Foto: Andreas Rossmann\n			\n				TICKETS
URL:https://literaturhaus-bonn.de/veranstaltung/30-jahre-edition-memoriamit-thomas-b-schumann/
LOCATION:Saal im Haus der Bildung\, Bottlerplatz 1\, 53111 Bonn\, 53111\, Deutschland
ATTACH;FMTTYPE=image/png:https://literaturhaus-bonn.de/wp-content/uploads/2025/03/Thomas-B.-SChumann-c-Andreas-Rossmann-sw.png
END:VEVENT
END:VCALENDAR