BEGIN:VCALENDAR
VERSION:2.0
PRODID:-//Literaturhaus Bonn - ECPv6.15.18//NONSGML v1.0//EN
CALSCALE:GREGORIAN
METHOD:PUBLISH
X-WR-CALNAME:Literaturhaus Bonn
X-ORIGINAL-URL:https://literaturhaus-bonn.de
X-WR-CALDESC:Veranstaltungen für Literaturhaus Bonn
REFRESH-INTERVAL;VALUE=DURATION:PT1H
X-Robots-Tag:noindex
X-PUBLISHED-TTL:PT1H
BEGIN:VTIMEZONE
TZID:Europe/Berlin
BEGIN:DAYLIGHT
TZOFFSETFROM:+0100
TZOFFSETTO:+0200
TZNAME:CEST
DTSTART:20240331T010000
END:DAYLIGHT
BEGIN:STANDARD
TZOFFSETFROM:+0200
TZOFFSETTO:+0100
TZNAME:CET
DTSTART:20241027T010000
END:STANDARD
BEGIN:DAYLIGHT
TZOFFSETFROM:+0100
TZOFFSETTO:+0200
TZNAME:CEST
DTSTART:20250330T010000
END:DAYLIGHT
BEGIN:STANDARD
TZOFFSETFROM:+0200
TZOFFSETTO:+0100
TZNAME:CET
DTSTART:20251026T010000
END:STANDARD
BEGIN:DAYLIGHT
TZOFFSETFROM:+0100
TZOFFSETTO:+0200
TZNAME:CEST
DTSTART:20260329T010000
END:DAYLIGHT
BEGIN:STANDARD
TZOFFSETFROM:+0200
TZOFFSETTO:+0100
TZNAME:CET
DTSTART:20261025T010000
END:STANDARD
END:VTIMEZONE
BEGIN:VEVENT
DTSTART;TZID=Europe/Berlin:20250507T183000
DTEND;TZID=Europe/Berlin:20250507T203000
DTSTAMP:20260421T074914
CREATED:20250312T094517Z
LAST-MODIFIED:20250312T100109Z
UID:15776055-1746642600-1746649800@literaturhaus-bonn.de
SUMMARY:LESEZIRKEL»GETÄUSCHT«JURI FELSEN
DESCRIPTION:Moderation: Judith Merchant \nLektüre sucht Auseinandersetzung\, Hintergrundwissen\, Debatte – das Literaturhaus Bonn sucht aktive Leser*innen mit Freude am Dialog. Unseren Mitgliedern bieten wir einen von der Bonner Autorin Judith Merchant geleiteten Lesezirkel an\, der Titel im Literaturhaus-Programm liest und diskutiert. Neuzugänge sind stets willkommen! \nGelesen und besprochen wird an diesem Termin »Getäuscht« von Juri Felsen \n\n\n			\n				\n				\n				\n				\n				Café Camus\, Breite Str. 54-56\, Bonn\n9€ / Eintritt frei\n			\n				ANMELDEN
URL:https://literaturhaus-bonn.de/veranstaltung/lesezirkelgetaeuschtjuri-felsen-2/
LOCATION:Café Camus\, Breite Str. 54-56\, Bonn\, NRW\, 53111
CATEGORIES:LESEZIRKEL
ATTACH;FMTTYPE=image/png:https://literaturhaus-bonn.de/wp-content/uploads/2023/02/Logo_mit_Dreieick-1.png
END:VEVENT
END:VCALENDAR