BEGIN:VCALENDAR
VERSION:2.0
PRODID:-//Literaturhaus Bonn - ECPv6.15.18//NONSGML v1.0//EN
CALSCALE:GREGORIAN
METHOD:PUBLISH
X-ORIGINAL-URL:https://literaturhaus-bonn.de
X-WR-CALDESC:Veranstaltungen für Literaturhaus Bonn
REFRESH-INTERVAL;VALUE=DURATION:PT1H
X-Robots-Tag:noindex
X-PUBLISHED-TTL:PT1H
BEGIN:VTIMEZONE
TZID:Europe/Berlin
BEGIN:DAYLIGHT
TZOFFSETFROM:+0100
TZOFFSETTO:+0200
TZNAME:CEST
DTSTART:20240331T010000
END:DAYLIGHT
BEGIN:STANDARD
TZOFFSETFROM:+0200
TZOFFSETTO:+0100
TZNAME:CET
DTSTART:20241027T010000
END:STANDARD
BEGIN:DAYLIGHT
TZOFFSETFROM:+0100
TZOFFSETTO:+0200
TZNAME:CEST
DTSTART:20250330T010000
END:DAYLIGHT
BEGIN:STANDARD
TZOFFSETFROM:+0200
TZOFFSETTO:+0100
TZNAME:CET
DTSTART:20251026T010000
END:STANDARD
BEGIN:DAYLIGHT
TZOFFSETFROM:+0100
TZOFFSETTO:+0200
TZNAME:CEST
DTSTART:20260329T010000
END:DAYLIGHT
BEGIN:STANDARD
TZOFFSETFROM:+0200
TZOFFSETTO:+0100
TZNAME:CET
DTSTART:20261025T010000
END:STANDARD
END:VTIMEZONE
BEGIN:VEVENT
DTSTART;TZID=Europe/Berlin:20250408T190000
DTEND;TZID=Europe/Berlin:20250408T203000
DTSTAMP:20260421T061635
CREATED:20250325T091808Z
LAST-MODIFIED:20250403T065721Z
UID:15776178-1744138800-1744144200@literaturhaus-bonn.de
SUMMARY:EUROPA ERLESEN:BRÜSSEL IN REALITÄT UND FIKTION
DESCRIPTION:Moderation: Emily Grunert \nGemeinsam mit der österreichischen Autorin Theresia Töglhofer und dem österreichischen Schauspieler Lucas Englander werfen wir einen Blick darauf\, wie unsere europäische Demokratie aufgebaut ist\, wie sie medial dargestellt wird und welche Rolle besonders junge Menschen in ihr einnehmen. Dabei orientieren wir uns sowohl an Töglhofers Debütroman „Tatendrang“\, rund um eine Gruppe junger Praktikant*innen der Europäischen Außenzentrale\, die das vereinte Europa zu ihrer Spielwiese machen will und dabei selbst zum Spielball fragwürdiger Polit-Strategien wird als auch an der deutsch-französisch-belgischen Politsatire „Parlament“\, die den Alltag der Abgeordneten und Mitarbeiter*innen des Europäischen Parlaments aus der Sicht eines jungen parlamentarischen Assistenten abbildet und dabei nicht zuletzt von rasantem Arbeitstempo\, Leistungsdruck\, Idealismus und einer Grauzone zwischen Intrigen und Netzwerken erzählt. Zu Gast ist auch Louisa von Essen\, Mitglied der Jungen Europäischen Föderalist:innen NRW\, die aus eigener Erfahrung Einblicke in die Arbeit des Europäischen Parlaments geben wird.  \nTheresia Töglhofer\, geboren 1985 in Graz. Studium der Geschichte und der Internationalen Beziehungen in Graz und Paris\, dann Stationen in Belgrad\, Brüssel\, Wien\, Osijek und Berlin. Analystin für die Außen- und Erweiterungspolitik der EU. Zahlreiche Stipendien und Auszeichnungen. Theresia Töglhofer lebt in Berlin und in der Oststeiermark. Tatendrang ist ihr erster Roman. \nLucas Englander\, geboren 1992 in Wien\, studierte ein Jahr lang Schauspiel am Stella Adler Studio of Acting in New York City. In der Fernsehserie Parlament spielt er die Rolle von Torsten\, dem Assistenten der von Christiane Paul verkörperten Ingeborg. Der Schauspieler lebt in Österreich und ist an einer Vielzahl internationaler Produktionen beschäftigt. \nDie Veranstaltung ist Teil der Literaturreihe Europa erlesen\, die seit 2007 als Zusammenarbeit zwischen dem Literaturbüro NRW und der Staatskanzlei NRW stattfindet. Die Veranstaltung am 08. April findet in Kooperation mit dem Literaturhaus Bonn statt.\n\n\n\n			\n				\n				\n				\n				\n				Festsaal der Uni Bonn\, Am Hof 1\, BonnDer Eintritt ist frei. Um Anmeldung wird gebeten.  \n			\n				\n				\n				\n				\n				Foto links: Heike SteinwegFoto rechts: Marlon Hambrusch\n			\n				ANMELDUNG
URL:https://literaturhaus-bonn.de/veranstaltung/europa-erlesenbruessel-in-realitaet-und-fiktion/
LOCATION:Festsaal der Uni Bonn\, Am Hof 1\, Bonn\, NRW\, 53113
ATTACH;FMTTYPE=image/png:https://literaturhaus-bonn.de/wp-content/uploads/2025/03/ToegelhoferEnglander-sw.png
ORGANIZER;CN="Literaturhaus NRW in D%C3%BCsseldorf":MAILTO:info@literaturbuero-nrw.de
END:VEVENT
END:VCALENDAR