BEGIN:VCALENDAR
VERSION:2.0
PRODID:-//Literaturhaus Bonn - ECPv6.15.18//NONSGML v1.0//EN
CALSCALE:GREGORIAN
METHOD:PUBLISH
X-WR-CALNAME:Literaturhaus Bonn
X-ORIGINAL-URL:https://literaturhaus-bonn.de
X-WR-CALDESC:Veranstaltungen für Literaturhaus Bonn
REFRESH-INTERVAL;VALUE=DURATION:PT1H
X-Robots-Tag:noindex
X-PUBLISHED-TTL:PT1H
BEGIN:VTIMEZONE
TZID:Europe/Berlin
BEGIN:DAYLIGHT
TZOFFSETFROM:+0100
TZOFFSETTO:+0200
TZNAME:CEST
DTSTART:20240331T010000
END:DAYLIGHT
BEGIN:STANDARD
TZOFFSETFROM:+0200
TZOFFSETTO:+0100
TZNAME:CET
DTSTART:20241027T010000
END:STANDARD
BEGIN:DAYLIGHT
TZOFFSETFROM:+0100
TZOFFSETTO:+0200
TZNAME:CEST
DTSTART:20250330T010000
END:DAYLIGHT
BEGIN:STANDARD
TZOFFSETFROM:+0200
TZOFFSETTO:+0100
TZNAME:CET
DTSTART:20251026T010000
END:STANDARD
BEGIN:DAYLIGHT
TZOFFSETFROM:+0100
TZOFFSETTO:+0200
TZNAME:CEST
DTSTART:20260329T010000
END:DAYLIGHT
BEGIN:STANDARD
TZOFFSETFROM:+0200
TZOFFSETTO:+0100
TZNAME:CET
DTSTART:20261025T010000
END:STANDARD
END:VTIMEZONE
BEGIN:VEVENT
DTSTART;TZID=Europe/Berlin:20250327T193000
DTEND;TZID=Europe/Berlin:20250327T213000
DTSTAMP:20260421T045116
CREATED:20250221T085939Z
LAST-MODIFIED:20250311T115339Z
UID:15775991-1743103800-1743111000@literaturhaus-bonn.de
SUMMARY:WORTREICH  »MONIQUE BRICHT AUS« Édouard Louis
DESCRIPTION:Moderation: Leonie Modler \nWenn du gern liest\, gern über aktuelle Bücher sprichst\, Gleichgesinnte suchst und zwischen 16 und 35 bist\, dann komm zu uns! Unter der Leitung von Buchhändlerin Leonie Modler lesen wir Werke der eingeladenen Autorinnen und Autoren. Wortreiches Diskutieren steht im Mittelpunkt! \nGelesen und besprochen wird an diesem Termin »MONIQUE BRICHT AUS« von Édouard Louis. \n\n\n			\n				\n				\n				\n				\n				buchladen46\, Kaiserstraße 46\, BonnEintritt frei / 9 €Teilnahme nur nach vorheriger Anmeldung \n			\n			\n				\n				\n				\n				\n				\n			\n				\n				\n				\n				\n			\n				\n				\n				\n				\n				\n				\n				Anmeldung
URL:https://literaturhaus-bonn.de/veranstaltung/wortreich-monique-bricht-aus-edouard-louis/
LOCATION:buchladen 46\, Kaiserstraße 46\, Bonn\, 53115
CATEGORIES:WORTREICH
ATTACH;FMTTYPE=image/png:https://literaturhaus-bonn.de/wp-content/uploads/2023/02/Logo_mit_Dreieick-1.png
END:VEVENT
END:VCALENDAR