BEGIN:VCALENDAR
VERSION:2.0
PRODID:-//Literaturhaus Bonn - ECPv6.15.18//NONSGML v1.0//EN
CALSCALE:GREGORIAN
METHOD:PUBLISH
X-WR-CALNAME:Literaturhaus Bonn
X-ORIGINAL-URL:https://literaturhaus-bonn.de
X-WR-CALDESC:Veranstaltungen für Literaturhaus Bonn
REFRESH-INTERVAL;VALUE=DURATION:PT1H
X-Robots-Tag:noindex
X-PUBLISHED-TTL:PT1H
BEGIN:VTIMEZONE
TZID:Europe/Berlin
BEGIN:DAYLIGHT
TZOFFSETFROM:+0100
TZOFFSETTO:+0200
TZNAME:CEST
DTSTART:20240331T010000
END:DAYLIGHT
BEGIN:STANDARD
TZOFFSETFROM:+0200
TZOFFSETTO:+0100
TZNAME:CET
DTSTART:20241027T010000
END:STANDARD
BEGIN:DAYLIGHT
TZOFFSETFROM:+0100
TZOFFSETTO:+0200
TZNAME:CEST
DTSTART:20250330T010000
END:DAYLIGHT
BEGIN:STANDARD
TZOFFSETFROM:+0200
TZOFFSETTO:+0100
TZNAME:CET
DTSTART:20251026T010000
END:STANDARD
BEGIN:DAYLIGHT
TZOFFSETFROM:+0100
TZOFFSETTO:+0200
TZNAME:CEST
DTSTART:20260329T010000
END:DAYLIGHT
BEGIN:STANDARD
TZOFFSETFROM:+0200
TZOFFSETTO:+0100
TZNAME:CET
DTSTART:20261025T010000
END:STANDARD
END:VTIMEZONE
BEGIN:VEVENT
DTSTART;TZID=Europe/Berlin:20250324T180000
DTEND;TZID=Europe/Berlin:20250324T200000
DTSTAMP:20260421T044503
CREATED:20240722T150202Z
LAST-MODIFIED:20250324T064316Z
UID:15774798-1742839200-1742846400@literaturhaus-bonn.de
SUMMARY:SARA WEBER»DAS KANN DOCH JEMAND ANDERES MACHEN!« [AUSGEBUCHT]
DESCRIPTION:Moderation: Tilman Strasser \nLängst ist klar: Künstliche Intelligenz hat das Potential für sehr große Veränderungen. KI plant nicht nur unsere Reisen und schlägt uns die nächste Serie vor\, sondern schmeißt auch unsere Arbeitswelt um. Ein bedeutender und durchaus besorgniserregender Umbruch\, aber einer\, der genau zum richtigen Zeitpunkt kommt. \nDenn angesichts allgemeiner Erschöpfung und des zunehmenden Mangels an Arbeitskräften brauchen wir dringend Lösungen jenseits eines »Wenn alle etwas mehr machen\, …«.  Zum Wunsch nach Entlastung kommt die Sorge\, dass KI einem gleich den ganzen Job wegnimmt. Dabei werden wir alle im KI-Zeitalter mehr gebraucht denn je. Fest steht: Wie die Zukunft unserer Arbeitswelt aussieht\, haben wir selbst in der Hand. \nSara Weber beschäftigt sich seit Jahren mit der neuen Arbeitswelt. Sie ist davon überzeugt\, dass KI nicht nur Risiken bringt: Wir müssen aus den Fehlern der Vergangenheit lernen und jetzt die richtigen politischen Weichen stellen. Denn am Ende ist KI nur ein Werkzeug. Wenn wir es für positive und gerechte Veränderung nutzen\, schaffen wir uns die Arbeitswelt unserer Träume – und können endlich besser arbeiten als je zuvor. \nSara Weber\, geboren 1987\, ist Deutsch-Amerikanerin und lebt in München. Sie studierte Publizistik und Buchwissenschaft in Mainz und besuchte die Deutsche Journalistenschule in München. Nach ihrer Zeit als freie Autorin für u. a. Zeit und Süddeutsche Zeitung arbeitete sie fünf Jahre bei LinkedIn. Sie schreibt die Spiegel-Kolumne »ÜberArbeiten«. Ihr erstes Buch Die Welt geht unter und ich muss trotzdem arbeiten? war 2023 ein Bestseller. \n»zwischen/miete nrw« heißt unsere Reihe für literarische Hausbesuche\, die Literaturveranstaltungen in WGs realisiert. Als zwischen/miete diskursiv ist sie Partner der Bundeszentrale für politische Bildung/bpb in Bonn. Immer mit einem Gast aus Journalismus\, Aktivismus\, Wissenschaft\, immer mit einer Idee von Morgen. \nIn Kooperation mit der Bundeszentrale für politische Bildung \n			\n				\n				\n				\n				\n				Medienzentrum Bundeszentrale für politische Bildung\, Bundeskanzlerplatz 2\, BonnEintritt frei\, Anmeldung über das Anmeldeformular  \n			\n				ANMELDEN
URL:https://literaturhaus-bonn.de/veranstaltung/sara-weberdas-kann-doch-jemand-anderes-machen/
LOCATION:bpb:medienzentrum\, Bundeskanzlerplatz\, Bonn
CATEGORIES:ZWISCHEN/MIETE
ATTACH;FMTTYPE=image/png:https://literaturhaus-bonn.de/wp-content/uploads/2024/07/Weber-c-Maya-Claussen.png
END:VEVENT
END:VCALENDAR