BEGIN:VCALENDAR
VERSION:2.0
PRODID:-//Literaturhaus Bonn - ECPv6.15.18//NONSGML v1.0//EN
CALSCALE:GREGORIAN
METHOD:PUBLISH
X-ORIGINAL-URL:https://literaturhaus-bonn.de
X-WR-CALDESC:Veranstaltungen für Literaturhaus Bonn
REFRESH-INTERVAL;VALUE=DURATION:PT1H
X-Robots-Tag:noindex
X-PUBLISHED-TTL:PT1H
BEGIN:VTIMEZONE
TZID:Europe/Berlin
BEGIN:DAYLIGHT
TZOFFSETFROM:+0100
TZOFFSETTO:+0200
TZNAME:CEST
DTSTART:20240331T010000
END:DAYLIGHT
BEGIN:STANDARD
TZOFFSETFROM:+0200
TZOFFSETTO:+0100
TZNAME:CET
DTSTART:20241027T010000
END:STANDARD
BEGIN:DAYLIGHT
TZOFFSETFROM:+0100
TZOFFSETTO:+0200
TZNAME:CEST
DTSTART:20250330T010000
END:DAYLIGHT
BEGIN:STANDARD
TZOFFSETFROM:+0200
TZOFFSETTO:+0100
TZNAME:CET
DTSTART:20251026T010000
END:STANDARD
BEGIN:DAYLIGHT
TZOFFSETFROM:+0100
TZOFFSETTO:+0200
TZNAME:CEST
DTSTART:20260329T010000
END:DAYLIGHT
BEGIN:STANDARD
TZOFFSETFROM:+0200
TZOFFSETTO:+0100
TZNAME:CET
DTSTART:20261025T010000
END:STANDARD
END:VTIMEZONE
BEGIN:VEVENT
DTSTART;TZID=Europe/Berlin:20250211T190000
DTEND;TZID=Europe/Berlin:20250211T203000
DTSTAMP:20260420T155323
CREATED:20241212T132542Z
LAST-MODIFIED:20250127T135126Z
UID:15775693-1739300400-1739305800@literaturhaus-bonn.de
SUMMARY:CLAUDIA HAMM»AUTOMATENSPRACHE«
DESCRIPTION:Moderation: Anna Valerius \nWas macht Künstliche Intelligenz mit unserer Sprache? \nChatbots und Übersetzungssoftware versprechen Texte auf Knopfdruck. Die Autorin und Übersetzerin Claudia Hamm hat sich grundsätzlich mit algorithmenproduzierten Wortfolgen beschäftigt und zum Thema einen Akzente-Doppelband herausgegeben. Darin streifen Essays\, Gedichte und Gespräche durch den Kosmos der Automatensprache und fragen\, was Sprache menschlich\, intelligent und lebendig macht. Welche Folgen hat es für uns selbst\, für Literatur und Gesellschaft\, wenn wir sie automatisieren. Wie verändert sich die Welt\, wenn wir Gedanken und Gefühle nicht mehr selbst verantworten\, sondern über Plattformmonopole Wortwahrscheinlichkeiten errechnen lassen? Welches Menschenbild wird dabei vertreten\, wo bleiben Menschenrechte und -würde in diesem »größten Diebstahl der Menschheitsgeschichte«\, wo Nachhaltigkeit und Demokratie? \nClaudia Hamm fand über die Theaterregie (u.a. am Burgtheater Wien und an diversen Häusern in Frankreich\, Italien und im deutschsprachigen Raum)\, das Schreiben von Essays und Bühnentexten und Aufenthalte in Frankreich\, Mexiko und Chile zum Literaturübersetzen. Für ihre Übertragungen u.a. von Emmanuel Carrère\, Joseph Andras und Ivan Jablonka war sie für den Übersetzerpreis der Leipziger Buchmesse und den Christoph-Martin-Wieland-Preis nominiert und erhielt den Preis des Kulturkreises der deutschen Wirtschaft. Sie ist Herausgeberin des Akzente-Doppelhefts Automatensprache. \nGefördert durch die Kunststiftung NRW und den Deutschen Übersetzerfonds \nIn Kooperation mit der Stadtbibliothek Bonn \n\n\n			\n				\n				\n				\n				\n				Saal im Haus der Bildung\, Mülheimer Platz 1\, BonnKarten im VVK über Bonnticket 16€ / 8€ / 2\,50€\, Abendkasse 18€ / 10€ / 3€ \n			\n				\n				\n				\n				\n				Foto: Michale Donath\n			\n				TICKETS
URL:https://literaturhaus-bonn.de/veranstaltung/claudia-hammautomatensprache/
LOCATION:Saal im Haus der Bildung\, Bottlerplatz 1\, 53111 Bonn\, 53111\, Deutschland
ATTACH;FMTTYPE=image/png:https://literaturhaus-bonn.de/wp-content/uploads/2024/12/Claudia-Hamm-c-Michale-Donath-WEBSITE.png
END:VEVENT
END:VCALENDAR