BEGIN:VCALENDAR
VERSION:2.0
PRODID:-//Literaturhaus Bonn - ECPv6.15.18//NONSGML v1.0//EN
CALSCALE:GREGORIAN
METHOD:PUBLISH
X-ORIGINAL-URL:https://literaturhaus-bonn.de
X-WR-CALDESC:Veranstaltungen für Literaturhaus Bonn
REFRESH-INTERVAL;VALUE=DURATION:PT1H
X-Robots-Tag:noindex
X-PUBLISHED-TTL:PT1H
BEGIN:VTIMEZONE
TZID:Europe/Berlin
BEGIN:DAYLIGHT
TZOFFSETFROM:+0100
TZOFFSETTO:+0200
TZNAME:CEST
DTSTART:20240331T010000
END:DAYLIGHT
BEGIN:STANDARD
TZOFFSETFROM:+0200
TZOFFSETTO:+0100
TZNAME:CET
DTSTART:20241027T010000
END:STANDARD
BEGIN:DAYLIGHT
TZOFFSETFROM:+0100
TZOFFSETTO:+0200
TZNAME:CEST
DTSTART:20250330T010000
END:DAYLIGHT
BEGIN:STANDARD
TZOFFSETFROM:+0200
TZOFFSETTO:+0100
TZNAME:CET
DTSTART:20251026T010000
END:STANDARD
BEGIN:DAYLIGHT
TZOFFSETFROM:+0100
TZOFFSETTO:+0200
TZNAME:CEST
DTSTART:20260329T010000
END:DAYLIGHT
BEGIN:STANDARD
TZOFFSETFROM:+0200
TZOFFSETTO:+0100
TZNAME:CET
DTSTART:20261025T010000
END:STANDARD
END:VTIMEZONE
BEGIN:VEVENT
DTSTART;TZID=Europe/Berlin:20250123T190000
DTEND;TZID=Europe/Berlin:20250123T203000
DTSTAMP:20260421T112511
CREATED:20241205T141703Z
LAST-MODIFIED:20241211T153140Z
UID:15775638-1737658800-1737664200@literaturhaus-bonn.de
SUMMARY:EMINE SEVGI ÖZDAMAR»EIN VON SCHATTEN BEGRENZTER RAUM«
DESCRIPTION:Moderation: Anabelle Assaf \nEmine Sevgi Özdamars Bestseller ist die wortgewaltige Begehung eines Raums zwischen Bedrohung und Geborgenheit – ein vielstimmiges Loblied auf ein Nachkriegseuropa\, in dem es für kurze Zeit möglich schien\, mit den Mitteln der Poesie Grenzen einzureißen. \nNach dem Militärputsch 1971 flieht die Erzählerin aus Istanbul übers Meer nach Europa. Wie auch andere Künstlerinnen und Künstler\, Linke und Intellektuelle fürchtet sie um ihre Existenz. Im Gepäck: das unbedingte Verlangen\, den so jäh gekappten kulturellen Reichtum ihres Landes andernorts bekannt zu machen und lebendig zu halten. Im geteilten Berlin\, auf den Boulevards von Paris\, im Zwiegespräch mit bewunderten Dichtern und Denkern\, findet sie schließlich eine »Pause der Hölle«\, in der Kunst\, Politik und Leben uneingeschränkt vereinbar scheinen. \nEmine Sevgi Özdamar wuchs in Istanbul auf\, wo sie die Schauspielschule besuchte. Mitte der siebziger Jahre ging sie nach Berlin und Paris und arbeitete mit den Regisseuren Benno Besson\, Matthias Langhoff und Claus Peymann. Sie übernahm zahlreiche Filmrollen und schreibt seit 1982 Theaterstücke\, Romane und Erzählungen. Emine Sevgi Özdamar lebt in Berlin. \nGefördert durch die F. Victor Rolff-StiftungIn Kooperation mit der Stadtbibliothek Bonn  \n\n\n			\n				\n				\n				\n				\n				Saal im Haus der Bildung\, Mülheimer Platz 1\, BonnKarten im VVK über Bonnticket 16€ / 8€ / 2\,50€\, Abendkasse 18€ / 10€ / 3€ \n			\n				\n				\n				\n				\n				Foto: Heike Steinweg\n			\n				TICKETS
URL:https://literaturhaus-bonn.de/veranstaltung/emine-sevgi-oezdamarein-von-schatten-begrenzter-raum/
LOCATION:Saal im Haus der Bildung\, Bottlerplatz 1\, 53111 Bonn\, 53111\, Deutschland
CATEGORIES:AUSGEZEICHNET
ATTACH;FMTTYPE=image/png:https://literaturhaus-bonn.de/wp-content/uploads/2024/12/Emine-Sevgi-Oezdamar-c-Heike-Steinweg-WEBSITE.png
END:VEVENT
END:VCALENDAR