BEGIN:VCALENDAR
VERSION:2.0
PRODID:-//Literaturhaus Bonn - ECPv6.15.18//NONSGML v1.0//EN
CALSCALE:GREGORIAN
METHOD:PUBLISH
X-WR-CALNAME:Literaturhaus Bonn
X-ORIGINAL-URL:https://literaturhaus-bonn.de
X-WR-CALDESC:Veranstaltungen für Literaturhaus Bonn
REFRESH-INTERVAL;VALUE=DURATION:PT1H
X-Robots-Tag:noindex
X-PUBLISHED-TTL:PT1H
BEGIN:VTIMEZONE
TZID:Europe/Berlin
BEGIN:DAYLIGHT
TZOFFSETFROM:+0100
TZOFFSETTO:+0200
TZNAME:CEST
DTSTART:20240331T010000
END:DAYLIGHT
BEGIN:STANDARD
TZOFFSETFROM:+0200
TZOFFSETTO:+0100
TZNAME:CET
DTSTART:20241027T010000
END:STANDARD
BEGIN:DAYLIGHT
TZOFFSETFROM:+0100
TZOFFSETTO:+0200
TZNAME:CEST
DTSTART:20250330T010000
END:DAYLIGHT
BEGIN:STANDARD
TZOFFSETFROM:+0200
TZOFFSETTO:+0100
TZNAME:CET
DTSTART:20251026T010000
END:STANDARD
BEGIN:DAYLIGHT
TZOFFSETFROM:+0100
TZOFFSETTO:+0200
TZNAME:CEST
DTSTART:20260329T010000
END:DAYLIGHT
BEGIN:STANDARD
TZOFFSETFROM:+0200
TZOFFSETTO:+0100
TZNAME:CET
DTSTART:20261025T010000
END:STANDARD
END:VTIMEZONE
BEGIN:VEVENT
DTSTART;TZID=Europe/Berlin:20250120T181500
DTEND;TZID=Europe/Berlin:20250120T194500
DTSTAMP:20260421T112223
CREATED:20241205T113457Z
LAST-MODIFIED:20250108T094716Z
UID:15775617-1737396900-1737402300@literaturhaus-bonn.de
SUMMARY:RAPHAËLLE RED»ADIKOU«
DESCRIPTION:Moderation: Martin Sinn \nEine Road-Novel  über die Nachleben der Vergangenheit und darüber\, was es bedeutet\, zur eigenen Sprache zu finden: »Adikou war mir nach wenigen Seiten vertraut\, als wäre sie schon immer da gewesen\, dabei ist jeder von Raphaëlle Reds Sätzen von neuer\, nie da gewesener Schönheit.« (Dana Vowinckel) \nAdikous Herkunft ist verschwommen\, ihre Familiengeschichte verwischt. Dann\, in einem drückend heißen Sommer\, hält sie es in Paris nicht mehr aus. Adikou fliegt nach Lomé\, Togo\, dem Geburtsort ihres Vaters\, den sie kaum kennt. Wonach sie sucht\, ist unklar\, die Fragen stellen die anderen: Bist du weiß\, Schwarz oder beides\, sprichst du Ewe\, reist du alleine\, woher kommt deine Wut?Entlang der westafrikanischen Küste und bis in die USA sucht Adikou nach einem Platz in der Geschichte – und schafft sich ein Erbe aus Schlangenhäuten\, Skylines und stickigen Nächten. \nRaphaëlle Red wurde 1997 in Paris geboren und wuchs in Berlin auf\, wo sie auch heute lebt. Sie studierte Sozialwissenschaften\, forschte und lehrte zuletzt zur zeitgenössischen Literatur der afrikanischen Diaspora und wandte sich dann dem literarischen Schreiben zu. Raphaëlle Red schreibt auf Französisch\, Englisch und Deutsch. Ihre deutschsprachigen Texte sind bereits in den Anthologien Resonanzen (Spector Books\, 2022) und Glückwunsch (Hanser Berlin\, 2023) erschienen. Adikou (Deutsch von Patricia Klobusiczky) ist ihr Debütroman. \nDie Lesung ist Teil der Ringvorlesung Frankreich: Identität\, Flucht und Migration / Identité\, exil et migration der Universität Bonn. \nIn Kooperation mit der Romanistik der Universität Bonn und dem Institut français Bonn \n\n\n			\n				\n				\n				\n				\n				Institut français Bonn\, Adenauerallee 35\, BonnKarten im VVK über Bonnticket 16€ / 8€\, Abendkasse 18€ / 10€Eintritt für Studierende der Universität Bonn frei \n			\n				\n				\n				\n				\n				Foto: Adeline Rapon\n			\n				TICKETS
URL:https://literaturhaus-bonn.de/veranstaltung/raphaelle-redadikou/
LOCATION:Institut français Bonn
ATTACH;FMTTYPE=image/png:https://literaturhaus-bonn.de/wp-content/uploads/2024/12/Raphaelle-Red-c-Adeline-Rapon-WEBSITE.png
END:VEVENT
END:VCALENDAR