BEGIN:VCALENDAR
VERSION:2.0
PRODID:-//Literaturhaus Bonn - ECPv6.15.18//NONSGML v1.0//EN
CALSCALE:GREGORIAN
METHOD:PUBLISH
X-WR-CALNAME:Literaturhaus Bonn
X-ORIGINAL-URL:https://literaturhaus-bonn.de
X-WR-CALDESC:Veranstaltungen für Literaturhaus Bonn
REFRESH-INTERVAL;VALUE=DURATION:PT1H
X-Robots-Tag:noindex
X-PUBLISHED-TTL:PT1H
BEGIN:VTIMEZONE
TZID:Europe/Berlin
BEGIN:DAYLIGHT
TZOFFSETFROM:+0100
TZOFFSETTO:+0200
TZNAME:CEST
DTSTART:20230326T010000
END:DAYLIGHT
BEGIN:STANDARD
TZOFFSETFROM:+0200
TZOFFSETTO:+0100
TZNAME:CET
DTSTART:20231029T010000
END:STANDARD
BEGIN:DAYLIGHT
TZOFFSETFROM:+0100
TZOFFSETTO:+0200
TZNAME:CEST
DTSTART:20240331T010000
END:DAYLIGHT
BEGIN:STANDARD
TZOFFSETFROM:+0200
TZOFFSETTO:+0100
TZNAME:CET
DTSTART:20241027T010000
END:STANDARD
BEGIN:DAYLIGHT
TZOFFSETFROM:+0100
TZOFFSETTO:+0200
TZNAME:CEST
DTSTART:20250330T010000
END:DAYLIGHT
BEGIN:STANDARD
TZOFFSETFROM:+0200
TZOFFSETTO:+0100
TZNAME:CET
DTSTART:20251026T010000
END:STANDARD
END:VTIMEZONE
BEGIN:VEVENT
DTSTART;TZID=Europe/Berlin:20240902T183000
DTEND;TZID=Europe/Berlin:20240902T200000
DTSTAMP:20260420T135851
CREATED:20240722T140044Z
LAST-MODIFIED:20240725T105546Z
UID:15774863-1725301800-1725307200@literaturhaus-bonn.de
SUMMARY:LESEZIRKEL: [AUSGEBUCHT]PAUL LYNCH»DAS LIED DES PROPHETEN«
DESCRIPTION:Moderation: Judith Merchant \nLektüre sucht Auseinandersetzung\, Hintergrundwissen\, Debatte – das Literaturhaus Bonn sucht aktive Leser*innen mit Freude am Dialog. Unseren Mitgliedern bieten wir einen von der Bonner Autorin Judith Merchant geleiteten Lesezirkel an\, der Titel im Literaturhaus-Programm liest und diskutiert. Neuzugänge sind stets willkommen! \nGelesen und besprochen wird an diesem Termin »Das Lied des Propheten« von Paul Lynch. \n\n\n			\n				\n				\n				\n				\n				Buchhandlung The Art of Books\, Bonner Talweg\, 28A\, Bonn9€ / Eintritt frei \n			\n				\n				\n				\n				\n				\nDieser Termin ist bereits ausgebucht\, eine weitere Teilnahme ist leider nicht möglich. Bitte registrieren Sie sich für den LHB-Newsletter\, um über eventuelle Zusatztermine informiert zu bleiben.
URL:https://literaturhaus-bonn.de/veranstaltung/lesezirkelpaul-lynchdas-lied-des-propheten-ausgebucht/
LOCATION:The Art of Books\, Bonner Talweg 28a\, Bonn\, NRW\, 53113\, Deutschland
CATEGORIES:LESEZIRKEL
ATTACH;FMTTYPE=image/png:https://literaturhaus-bonn.de/wp-content/uploads/2023/02/Logo_mit_Dreieick-1.png
END:VEVENT
END:VCALENDAR