BEGIN:VCALENDAR
VERSION:2.0
PRODID:-//Literaturhaus Bonn - ECPv6.15.18//NONSGML v1.0//EN
CALSCALE:GREGORIAN
METHOD:PUBLISH
X-WR-CALNAME:Literaturhaus Bonn
X-ORIGINAL-URL:https://literaturhaus-bonn.de
X-WR-CALDESC:Veranstaltungen für Literaturhaus Bonn
REFRESH-INTERVAL;VALUE=DURATION:PT1H
X-Robots-Tag:noindex
X-PUBLISHED-TTL:PT1H
BEGIN:VTIMEZONE
TZID:Europe/Berlin
BEGIN:DAYLIGHT
TZOFFSETFROM:+0100
TZOFFSETTO:+0200
TZNAME:CEST
DTSTART:20230326T010000
END:DAYLIGHT
BEGIN:STANDARD
TZOFFSETFROM:+0200
TZOFFSETTO:+0100
TZNAME:CET
DTSTART:20231029T010000
END:STANDARD
BEGIN:DAYLIGHT
TZOFFSETFROM:+0100
TZOFFSETTO:+0200
TZNAME:CEST
DTSTART:20240331T010000
END:DAYLIGHT
BEGIN:STANDARD
TZOFFSETFROM:+0200
TZOFFSETTO:+0100
TZNAME:CET
DTSTART:20241027T010000
END:STANDARD
BEGIN:DAYLIGHT
TZOFFSETFROM:+0100
TZOFFSETTO:+0200
TZNAME:CEST
DTSTART:20250330T010000
END:DAYLIGHT
BEGIN:STANDARD
TZOFFSETFROM:+0200
TZOFFSETTO:+0100
TZNAME:CET
DTSTART:20251026T010000
END:STANDARD
END:VTIMEZONE
BEGIN:VEVENT
DTSTART;TZID=Europe/Berlin:20240628T190000
DTEND;TZID=Europe/Berlin:20240628T210000
DTSTAMP:20260420T211219
CREATED:20240327T150924Z
LAST-MODIFIED:20240410T083012Z
UID:15774097-1719601200-1719608400@literaturhaus-bonn.de
SUMMARY:ULJANA WOLF »MUTTERTASK«
DESCRIPTION:Moderation: Thomas Fechner-Smarsly \nWas ist eine Muttersprache\, bei Tag besehen? Oder im Tagelied? In Tradition? In durchwachter Nacht am Kinderbett? Oder wenn sie Windeln wechseln geht\, wickeln geht\, lauter Aufgaben vollführt\, die das Gedicht oder das Ich unterbrechen – ist sie dann eine aufgebrochene\, stotternde Sprache? Die sich selbst verwechselt und verdoppelt? Und darum nie mit sich allein ist\, immer Platz für andere hat? \nUljana Wolfs neue Gedichte lauschen auf die Auflösungserscheinungen der Sprache im Murmeln (engl. mutter) einer schimmernden Vielheit. Statt Sprachverlust besingen sie mit Zartheit und Witz die Durchlässigkeit konstruierter Grenzen oder Körper. Sie lassen aus Lallphasen neue Fügungen wachsen\, halluzinieren Lautverwandtschaften von mutter zu modder zu motten\, von Madrigal zu Madregal\, von muttertask zu mutatas. So hinterfragt Wolf auch Muttermythen oder Ursprungssehnsüchte\, die im Fixieren auf Grenzen andere(s) ausschließen. Medea taucht an Europas Außengrenzen in Camp Corinth auf. Hölderlins entgrenzendes Seefahrerfragment »Colomb« wird entlang der Transkription der fließenden Handschrift mit „Flistbustiers“ neu eingekleidet. Die Westernheldin Calamity Jane\, unechte Mutter\, verfranst sich in Erasure-Gedichten mit ihrer fakenden Tochter. Wolfs Task in diesem lang erwarteten neuen Gedichtband: mit verwandelnder Klangkunst Worte finden für unsere lebensweltlichen Gemengelagen. \nUljana Wolf\, Lyrikerin und Übersetzerin\, geboren 1979 in Berlin\, veröffentlichte bei kookbooks vier Gedichtbände und den Essayband »Etymologischer Gossip. Essays und Reden« (2021)\, sowie zahlreiche Lyrikübersetzungen. Ihr schriftstellerisches und übersetzerisches Werk wurde vielfach ausgezeichnet\, u. a. mit dem Peter Huchel-Preis\, dem Erlanger Preis für Poesie als Übersetzung und dem Preis der Leipziger Buchmesse. Im Wintersemester 2019 hatte sie die August-Wilhelm-von-Schlegel-Gastprofessur für Poetik der Übersetzung an der FU Berlin inne. Sie ist Mitglied der Deutschen Akademie für Sprache und Dichtung und lehrt Literarisches Schreiben und Übersetzung u. a. am Institut für Sprachkunst\, Wien\, und am Deutschen Literaturinstitut Leipzig. Wolf lebt mit ihren Töchtern in Berlin. \nIm Gedenken an den 2005 verstorbenen Lyriker Thomas Kling beruft die Kunststiftung NRW seit 2011 namhafte Autor*innen und Übersetzende der deutschsprachigen Gegenwartsliteratur als Gastdozent*innen an die Universität Bonn. \nGefördert durch die Kunststiftung NRW\, treten die Thomas Kling-Poetikdozent*innen auch im Rahmen einer Lesung am Literaturhaus Bonn auf. \nIn Kooperation mit der Rheinischen Friedrich-Wilhelms-Universität Bonn und der Stadtbibliothek Bonn \n			\n				\n				\n				\n				\n				Saal im Haus der Bildung\, Mülheimer Platz 1\, BonnKarten im VVK über Bonnticket 16€ / 8€ / 2\,50€ \, Abendkasse 18€ / 10€ / 3€ \n			\n				TICKETS
URL:https://literaturhaus-bonn.de/veranstaltung/uljana-wolf-muttertask/
LOCATION:Saal im Haus der Bildung\, Bottlerplatz 1\, 53111 Bonn\, 53111\, Deutschland
CATEGORIES:THOMAS KLING-POETIKDOZENTUR
ATTACH;FMTTYPE=image/jpeg:https://literaturhaus-bonn.de/wp-content/uploads/2024/03/Uljana-Wolf_by-Villa-Massimo-Foto-Alberto-Novelli-scaled.jpg
END:VEVENT
END:VCALENDAR