BEGIN:VCALENDAR
VERSION:2.0
PRODID:-//Literaturhaus Bonn - ECPv6.15.18//NONSGML v1.0//EN
CALSCALE:GREGORIAN
METHOD:PUBLISH
X-ORIGINAL-URL:https://literaturhaus-bonn.de
X-WR-CALDESC:Veranstaltungen für Literaturhaus Bonn
REFRESH-INTERVAL;VALUE=DURATION:PT1H
X-Robots-Tag:noindex
X-PUBLISHED-TTL:PT1H
BEGIN:VTIMEZONE
TZID:Europe/Berlin
BEGIN:DAYLIGHT
TZOFFSETFROM:+0100
TZOFFSETTO:+0200
TZNAME:CEST
DTSTART:20230326T010000
END:DAYLIGHT
BEGIN:STANDARD
TZOFFSETFROM:+0200
TZOFFSETTO:+0100
TZNAME:CET
DTSTART:20231029T010000
END:STANDARD
BEGIN:DAYLIGHT
TZOFFSETFROM:+0100
TZOFFSETTO:+0200
TZNAME:CEST
DTSTART:20240331T010000
END:DAYLIGHT
BEGIN:STANDARD
TZOFFSETFROM:+0200
TZOFFSETTO:+0100
TZNAME:CET
DTSTART:20241027T010000
END:STANDARD
BEGIN:DAYLIGHT
TZOFFSETFROM:+0100
TZOFFSETTO:+0200
TZNAME:CEST
DTSTART:20250330T010000
END:DAYLIGHT
BEGIN:STANDARD
TZOFFSETFROM:+0200
TZOFFSETTO:+0100
TZNAME:CET
DTSTART:20251026T010000
END:STANDARD
END:VTIMEZONE
BEGIN:VEVENT
DTSTART;TZID=Europe/Berlin:20240620T190000
DTEND;TZID=Europe/Berlin:20240620T210000
DTSTAMP:20260420T211343
CREATED:20240327T150946Z
LAST-MODIFIED:20240517T092112Z
UID:15774089-1718910000-1718917200@literaturhaus-bonn.de
SUMMARY:Naoise Dolan»DAS GLÜCKLICHE PAAR«
DESCRIPTION:Moderation: Barbara Schmidt-HaberkampTextlesung: Lena FalkIn deutscher und englischer Sprache \nEine Gruppe von Freunden in ihren späten Zwanzigern\, die einiges verbindet: Alle sind queer\, alle sind mehr oder weniger irisch und leben zwischen Dublin und London. Celine und Luke verloben sich\, ein Jahr später soll die Hochzeit stattfinden\, dann werden die beiden glücklich bis ans Ende ihrer Tage zusammenleben. Doch Celine\, begabte Pianistin\, bedeutet das Klavierspiel mehr als alles andere\, und Luke betrügt sie von Anfang an. Phoebe\, die Trauzeugin\, trinkt lieber Bier\, statt sich endlich einen Job zu suchen. Archie\, Lukes Trauzeuge und Ex-Freund\, sollte eigentlich die Karriereleiter emporklettern\, doch seine Gefühle für Luke stehen ihm im Weg. Und Vivian\, Lukes Ex-Freundin\, beobachtet die anderen wie in einem Reagenzglas. \nDie banale Frage: Werden Celine und Luke heiraten?\, nutzt Naoise Dolan in ihrem neuen Roman (Deutsch von Anke Caroline Burger) aufs Raffinierteste für ein Sittengemälde ihrer Generation und beobachtet so einfühlsam wie ironisch fünf junge Menschen auf der Suche nach ihrem Platz in der Welt. \nNaoise Dolan wurde 1992 in Dublin geboren. Sie studierte Englische Literatur in Dublin und Oxford. Nach ihrem Studium unterrichtete sie Englisch in Singapur und Hongkong. Ihr Debütroman »Aufregende Zeiten« war u. a. für den Women′s Prize for Fiction und den Dylan Thomas Prize nominiert und international ein großer Erfolg. Naoise Dolan lebt in Berlin. \nGefördert durch die Kunststiftung NRW und im Rahmen von Zeitgeist Irland 24\, einer Initiative von Culture Ireland und der irischen Botschaft in Deutschland.  \nIn Kooperation mit der Stadtbibliothek Bonn und dem Institut für Anglistik\, Amerikanistik und Keltologie der Universität Bonn. \n			\n				\n				\n				\n				\n				Saal im Haus der Bildung\, Mülheimer Platz 1\, BonnKarten im VVK über Bonnticket 16€ / 8€ / 2\,50€ \, Abendkasse 18€ / 10€ / 3€ \n			\n				TICKETS
URL:https://literaturhaus-bonn.de/veranstaltung/naoise-dolandas-glueckliche-paar/
LOCATION:Saal im Haus der Bildung\, Bottlerplatz 1\, 53111 Bonn\, 53111\, Deutschland
CATEGORIES:CULTURE IRELAND
ATTACH;FMTTYPE=image/jpeg:https://literaturhaus-bonn.de/wp-content/uploads/2024/03/Naoise-Dolan-C-Privat_002-scaled.jpg
END:VEVENT
END:VCALENDAR