BEGIN:VCALENDAR
VERSION:2.0
PRODID:-//Literaturhaus Bonn - ECPv6.15.18//NONSGML v1.0//EN
CALSCALE:GREGORIAN
METHOD:PUBLISH
X-WR-CALNAME:Literaturhaus Bonn
X-ORIGINAL-URL:https://literaturhaus-bonn.de
X-WR-CALDESC:Veranstaltungen für Literaturhaus Bonn
REFRESH-INTERVAL;VALUE=DURATION:PT1H
X-Robots-Tag:noindex
X-PUBLISHED-TTL:PT1H
BEGIN:VTIMEZONE
TZID:Europe/Berlin
BEGIN:DAYLIGHT
TZOFFSETFROM:+0100
TZOFFSETTO:+0200
TZNAME:CEST
DTSTART:20230326T010000
END:DAYLIGHT
BEGIN:STANDARD
TZOFFSETFROM:+0200
TZOFFSETTO:+0100
TZNAME:CET
DTSTART:20231029T010000
END:STANDARD
BEGIN:DAYLIGHT
TZOFFSETFROM:+0100
TZOFFSETTO:+0200
TZNAME:CEST
DTSTART:20240331T010000
END:DAYLIGHT
BEGIN:STANDARD
TZOFFSETFROM:+0200
TZOFFSETTO:+0100
TZNAME:CET
DTSTART:20241027T010000
END:STANDARD
BEGIN:DAYLIGHT
TZOFFSETFROM:+0100
TZOFFSETTO:+0200
TZNAME:CEST
DTSTART:20250330T010000
END:DAYLIGHT
BEGIN:STANDARD
TZOFFSETFROM:+0200
TZOFFSETTO:+0100
TZNAME:CET
DTSTART:20251026T010000
END:STANDARD
END:VTIMEZONE
BEGIN:VEVENT
DTSTART;TZID=Europe/Berlin:20240525T140000
DTEND;TZID=Europe/Berlin:20240525T160000
DTSTAMP:20260420T223944
CREATED:20240327T151102Z
LAST-MODIFIED:20240513T093810Z
UID:15774065-1716645600-1716652800@literaturhaus-bonn.de
SUMMARY:Georg M. Oswald »DAS GRUNDGESETZ. EIN LITERARISCHER KOMMENTAR«
DESCRIPTION:Das Grundgesetz ist gerade in Krisenzeiten die Grundlage jedes gesellschaftspolitischen Diskurses in Deutschland. Höchste Zeit also für einen Kommentar\, der die Verfassung für unsere Zeit neu erklärt\, anhand von Erzählungen und Erfahrungen\, juristisch abwägend und gerne auch schräg von außen blickend. Ergebnis ist ein «Grundgesetz-Kommentar für alle» voller überraschender Einblicke\, treffender Geschichten und funkelnder Essays. Zum Bonner Fest der Demokratie haben wir in Kooperation mit dem Haus der Geschichte Lars Brandt\, Angelika Nußberger und Jochen Schmidt zu einer Gesprächsrunde mit Georg M. Oswald eingeladen. \nGeorg M. Oswald\, geboren 1963 in München\, ist Schriftsteller und Jurist. Sein Roman »Alles\, was zählt« wurde mit dem International Prize ausgezeichnet und in zehn Sprachen übersetzt. Zuletzt erschienen das Sachbuch »Unsere Grundrechte« (2018) und der Roman »In unseren Kreisen« (2023). Als Herausgeber verantwortet er die Anthologie »Das Grundgesetz. Ein literarischer Kommentar« (2022). \n			\n				\n				\n				\n				\n				Fest der Demokratie\, Plenarsaal BundesratEintritt frei
URL:https://literaturhaus-bonn.de/veranstaltung/georg-m-oswald-das-grundgesetz-ein-literarischer-kommentar/
LOCATION:Fest der Demokratie
CATEGORIES:75 JAHRE GRUNDGESETZ
ATTACH;FMTTYPE=image/png:https://literaturhaus-bonn.de/wp-content/uploads/2024/03/Oswald-sw-c-privat.png
END:VEVENT
END:VCALENDAR