BEGIN:VCALENDAR
VERSION:2.0
PRODID:-//Literaturhaus Bonn - ECPv6.15.18//NONSGML v1.0//EN
CALSCALE:GREGORIAN
METHOD:PUBLISH
X-WR-CALNAME:Literaturhaus Bonn
X-ORIGINAL-URL:https://literaturhaus-bonn.de
X-WR-CALDESC:Veranstaltungen für Literaturhaus Bonn
REFRESH-INTERVAL;VALUE=DURATION:PT1H
X-Robots-Tag:noindex
X-PUBLISHED-TTL:PT1H
BEGIN:VTIMEZONE
TZID:Europe/Berlin
BEGIN:DAYLIGHT
TZOFFSETFROM:+0100
TZOFFSETTO:+0200
TZNAME:CEST
DTSTART:20230326T010000
END:DAYLIGHT
BEGIN:STANDARD
TZOFFSETFROM:+0200
TZOFFSETTO:+0100
TZNAME:CET
DTSTART:20231029T010000
END:STANDARD
BEGIN:DAYLIGHT
TZOFFSETFROM:+0100
TZOFFSETTO:+0200
TZNAME:CEST
DTSTART:20240331T010000
END:DAYLIGHT
BEGIN:STANDARD
TZOFFSETFROM:+0200
TZOFFSETTO:+0100
TZNAME:CET
DTSTART:20241027T010000
END:STANDARD
BEGIN:DAYLIGHT
TZOFFSETFROM:+0100
TZOFFSETTO:+0200
TZNAME:CEST
DTSTART:20250330T010000
END:DAYLIGHT
BEGIN:STANDARD
TZOFFSETFROM:+0200
TZOFFSETTO:+0100
TZNAME:CET
DTSTART:20251026T010000
END:STANDARD
END:VTIMEZONE
BEGIN:VEVENT
DTSTART;TZID=Europe/Berlin:20240523T170000
DTEND;TZID=Europe/Berlin:20240523T190000
DTSTAMP:20260420T223948
CREATED:20240418T123311Z
LAST-MODIFIED:20240510T075926Z
UID:15774390-1716483600-1716490800@literaturhaus-bonn.de
SUMMARY:»In bester Verfassung«Radtour mit Lesungen
DESCRIPTION:Gemeinsam mit dem ADFC Bonn / Rhein-Sieg veranstalten wir anlässlich des 75. Geburtstags des Grundgesetzes eine Radtour mit Lesungen im Bonner Stadtgebiet. Die Strecke beträgt 22 km und ist inklusive Stopps für Lesungen auf 2-3 Stunden angesetzt. Der Start ist am Museum Koenig um 17 Uhr. \nAnschließend führt die Tour zu historischen Orten in Bonn\, die für das Grundgesetz von großer Bedeutung sind. An mehreren Haltepunkten gibt es kurze Wortbeiträge\, u.a. Lesungen mit Beiträgen aus dem Wettbewerb\, den Literaturhaus und General-Anzeiger Bonn zum Geburtstag des Grundgesetzes ausgelobt hatten: am Alten Rathaus von Christa Voigt\, in Pützchen in der Helene-Weber-Straße Sabine Thomas und zum guten Schluss\, zwischen Altem Plenarsaal und Bundesrat\, Svetlana Akinsina. \nWer von den Mitradelnden ein Grundgesetz zu Hause hat\, ist eingeladen\, es mitzubringen. Alle anderen bekommen am Ende der Tour eine aktuelle Ausgabe der Bundeszentrale für politische Bildung geschenkt. \nIn Kooperation mit dem ADFC Bonn / Rhein-Sieg \n \n \nStart am Museum Koenig\, Adenauerallee 160\, Bonn \nEintritt frei\, Anmeldung nicht erforderlich
URL:https://literaturhaus-bonn.de/veranstaltung/in-bester-verfassung-radtour-mit-lesungen/
LOCATION:Museum Koenig\, Adenauerallee 160\, Bonn\, NRW\, 53113\, Deutschland
CATEGORIES:75 JAHRE GRUNDGESETZ
ATTACH;FMTTYPE=image/png:https://literaturhaus-bonn.de/wp-content/uploads/2024/04/Fahrraeder-c-Literatuhaus-Bonn.png
END:VEVENT
BEGIN:VEVENT
DTSTART;TZID=Europe/Berlin:20240523T193000
DTEND;TZID=Europe/Berlin:20240523T193000
DTSTAMP:20260420T223948
CREATED:20240328T134333Z
LAST-MODIFIED:20240503T105254Z
UID:15774221-1716492600-1716492600@literaturhaus-bonn.de
SUMMARY:WORTREICH:Naoise Dolan»DAS GLÜCKLICHE PAAR«
DESCRIPTION:Moderation: Leonie Modler \nWenn du gern liest\, gern über aktuelle Bücher sprichst\, Gleichgesinnte suchst und zwischen 16 und 35 bist\, dann komm zu uns! Unter der Leitung von Buchhändlerin Leonie Modler lesen wir Werke der eingeladenen Autorinnen und Autoren. Wortreiches Diskutieren steht im Mittelpunkt! \nGelesen und besprochen wird an diesem Termin »DAS GLÜCKLICHE PAAR« von Naoise Dolan. \n\n\n			\n				\n				\n				\n				\n				Banks van Liz\, Breite Straße 60\, BonnAnmeldung \n			\n			\n				\n				\n				\n				\n				\n			\n				\n				\n				\n				\n			\n				\n				\n				\n				\n				\n				\n				ANMELDEN
URL:https://literaturhaus-bonn.de/veranstaltung/wortreich-titel-tba/
LOCATION:Banks van Liz\, Breite Straße 60\, Bonn\, NRW\, 53111\, Deutschland
CATEGORIES:WORTREICH
ATTACH;FMTTYPE=image/png:https://literaturhaus-bonn.de/wp-content/uploads/2023/02/Logo_mit_Dreieick-1.png
END:VEVENT
END:VCALENDAR