BEGIN:VCALENDAR
VERSION:2.0
PRODID:-//Literaturhaus Bonn - ECPv6.15.18//NONSGML v1.0//EN
CALSCALE:GREGORIAN
METHOD:PUBLISH
X-ORIGINAL-URL:https://literaturhaus-bonn.de
X-WR-CALDESC:Veranstaltungen für Literaturhaus Bonn
REFRESH-INTERVAL;VALUE=DURATION:PT1H
X-Robots-Tag:noindex
X-PUBLISHED-TTL:PT1H
BEGIN:VTIMEZONE
TZID:Europe/Berlin
BEGIN:DAYLIGHT
TZOFFSETFROM:+0100
TZOFFSETTO:+0200
TZNAME:CEST
DTSTART:20230326T010000
END:DAYLIGHT
BEGIN:STANDARD
TZOFFSETFROM:+0200
TZOFFSETTO:+0100
TZNAME:CET
DTSTART:20231029T010000
END:STANDARD
BEGIN:DAYLIGHT
TZOFFSETFROM:+0100
TZOFFSETTO:+0200
TZNAME:CEST
DTSTART:20240331T010000
END:DAYLIGHT
BEGIN:STANDARD
TZOFFSETFROM:+0200
TZOFFSETTO:+0100
TZNAME:CET
DTSTART:20241027T010000
END:STANDARD
BEGIN:DAYLIGHT
TZOFFSETFROM:+0100
TZOFFSETTO:+0200
TZNAME:CEST
DTSTART:20250330T010000
END:DAYLIGHT
BEGIN:STANDARD
TZOFFSETFROM:+0200
TZOFFSETTO:+0100
TZNAME:CET
DTSTART:20251026T010000
END:STANDARD
END:VTIMEZONE
BEGIN:VEVENT
DTSTART;TZID=Europe/Berlin:20240514T190000
DTEND;TZID=Europe/Berlin:20240514T210000
DTSTAMP:20260420T224124
CREATED:20240327T151102Z
LAST-MODIFIED:20240513T123854Z
UID:15774046-1715713200-1715720400@literaturhaus-bonn.de
SUMMARY:Juan Carlos Méndez»CIERRE DE EDICIÓN«
DESCRIPTION:In spanischer und deutscher Sprache \nModeration: Arturo Cordova\, M.A.\, und PD Dr. Hanna Nohe \n»Cierre de Edición« (2021\, »Redaktionsschluss«) schildert mit bissigem Humor und in rasantem Tempo die letzte Woche eines Journalisten bei einer Zeitschrift in Lima. Méndez führt uns in die bunt zusammengewürfelte Redaktion ein\, in der die Figuren nebeneinander existieren – und miteinander konkurrieren –\, um in satirischem Ton das Bild eines Landes zu zeichnen\, in dem die Suche nach der Wahrheit und deren Verbreitung von den Drohungen der Mächtigen umgeben ist. Der im Original von Penguin Random House herausgegebene Roman präsentiert einen Autor mit einem energischen\, dialogischen und scharfzüngigen Schreibstil. »Redaktionsschluss« wurde für den besten Roman des Jahres 2022 in Peru nominiert. Anschließend wurde er in Berlin\, Paris und Barcelona vorgestellt. \nJuan Carlos Méndez war in Lima Chefredakteur (Kulturabteilung) der politischen Wochenzeitung Caretas\, wo er rund ein Jahrzehnt lang arbeitete. Anschließend absolvierte er einen Masterstudiengang an der Universität Bonn\, wo er auch als Dozent tätig war. Als Kulturmanager hat er verschiedene Projekte des Goethe-Instituts Peru organisiert und geleitet. Er ist Autor des Theaterstücks »Tiernísimo Animal« (2000) und des Romans »Pandilla Interior« (2010). Er lebt derzeit in Berlin\, wo er mit einer Arbeit über die Darstellung Berlins in der lateinamerikanischen Literatur promoviert. \nIn Kooperation mit der Romanistik der Rheinischen Friedrich-Wilhelms-Universität Bonn und der Stadtbibliothek Bonn \n			\n				\n				\n				\n				\n				Saal im Haus der Bildung\, Mülheimer Platz 1\, Bonn\nEintritt frei
URL:https://literaturhaus-bonn.de/veranstaltung/juan-carlos-mendezcierre-de-edicion/
LOCATION:Saal im Haus der Bildung\, Bottlerplatz 1\, 53111 Bonn\, 53111\, Deutschland
ATTACH;FMTTYPE=image/png:https://literaturhaus-bonn.de/wp-content/uploads/2024/03/FINAL_Mendez-Website-c-Javier-Zapata.png
END:VEVENT
END:VCALENDAR