BEGIN:VCALENDAR
VERSION:2.0
PRODID:-//Literaturhaus Bonn - ECPv6.15.18//NONSGML v1.0//EN
CALSCALE:GREGORIAN
METHOD:PUBLISH
X-ORIGINAL-URL:https://literaturhaus-bonn.de
X-WR-CALDESC:Veranstaltungen für Literaturhaus Bonn
REFRESH-INTERVAL;VALUE=DURATION:PT1H
X-Robots-Tag:noindex
X-PUBLISHED-TTL:PT1H
BEGIN:VTIMEZONE
TZID:Europe/Berlin
BEGIN:DAYLIGHT
TZOFFSETFROM:+0100
TZOFFSETTO:+0200
TZNAME:CEST
DTSTART:20230326T010000
END:DAYLIGHT
BEGIN:STANDARD
TZOFFSETFROM:+0200
TZOFFSETTO:+0100
TZNAME:CET
DTSTART:20231029T010000
END:STANDARD
BEGIN:DAYLIGHT
TZOFFSETFROM:+0100
TZOFFSETTO:+0200
TZNAME:CEST
DTSTART:20240331T010000
END:DAYLIGHT
BEGIN:STANDARD
TZOFFSETFROM:+0200
TZOFFSETTO:+0100
TZNAME:CET
DTSTART:20241027T010000
END:STANDARD
BEGIN:DAYLIGHT
TZOFFSETFROM:+0100
TZOFFSETTO:+0200
TZNAME:CEST
DTSTART:20250330T010000
END:DAYLIGHT
BEGIN:STANDARD
TZOFFSETFROM:+0200
TZOFFSETTO:+0100
TZNAME:CET
DTSTART:20251026T010000
END:STANDARD
END:VTIMEZONE
BEGIN:VEVENT
DTSTART;TZID=Europe/Berlin:20240426T190000
DTEND;TZID=Europe/Berlin:20240426T210000
DTSTAMP:20260421T013911
CREATED:20240327T151103Z
LAST-MODIFIED:20240410T080836Z
UID:15774039-1714158000-1714165200@literaturhaus-bonn.de
SUMMARY:Dinçer Güçyeter»UNSER DEUTSCHLANDMÄRCHEN«
DESCRIPTION:Moderation: Judith Merchant \n»Unser Deutschlandmärchen« erstreckt sich vom Anfang des letzten Jahrhunderts bis beinah in die Jetztzeit. Dinçer Güçyeter lässt nichts aus\, keine Vergewaltigung\, kein Missverständnis\, keinen Konflikt am Arbeitsplatz\, ganz gleich ob in der Schuhfabrik\, beim Bauern auf dem Feld oder in der eigenen Kneipe. Und dann ist da noch die Erwartung der Mutter an den heranwachsenden Sohn\, der ihr als starker Mann zur Seite stehen soll\, selbst jedoch eine gänzlich andere Vorstellung von einem erfüllten Leben hat. \nDieser preisgekrönte Roman ist eine Familiengeschichte in vielen Stimmen. Frauen mehrerer Generationen und der in Almanya geborene Sohn erinnern sich in poetischen\, oft mythischen\, kräftigen Bildern und in Monologen\, Dialogen\, Träumen\, Gebeten\, Chören. \nDinçer Güçyeter\, geboren 1979 in Nettetal\, ist ein deutscher Theatermacher\, Lyriker\, Herausgeber und Verleger. Von 1996 bis 2000 absolvierte er eine Ausbildung als Werkzeugmechaniker\, zwischenzeitlich war er als Gastronom tätig. Im Jahr 2012 gründete Güçyeter den ELIF Verlag mit dem Programmschwerpunkt Lyrik. Seinen Verlag finanziert Güçyeter bis heute als Gabelstaplerfahrer in Teilzeit. 2022 wurde Güçyeter mit dem Peter-Huchel-Preis ausgezeichnet. Für »Unser Deutschlandmärchen« erhielt er 2023 den Preis der Leipziger Buchmesse. Er ist Vater von zwei Kindern und lebt in Nettetal. \nGefördert durch die F. Victor Rolff-Stiftung \n			\n				\n				\n				\n				\n				Collegium Leoninum\, Noeggerathstr. 34\, BonnKarten im VVK über Bonnticket 16€ / 8€ / 2\,50€ \, Abendkasse 18€ / 10€/ 3€ \n			\n				TICKETS
URL:https://literaturhaus-bonn.de/veranstaltung/dincer-gueceterunser-deutschlandmaerchen/
LOCATION:Collegium Leoninum\, Alte Kirche
CATEGORIES:AUSGEZEICHNET
ATTACH;FMTTYPE=image/png:https://literaturhaus-bonn.de/wp-content/uploads/2024/03/Guecyeter-c-Palagrafie.png
END:VEVENT
END:VCALENDAR