BEGIN:VCALENDAR
VERSION:2.0
PRODID:-//Literaturhaus Bonn - ECPv6.15.18//NONSGML v1.0//EN
CALSCALE:GREGORIAN
METHOD:PUBLISH
X-WR-CALNAME:Literaturhaus Bonn
X-ORIGINAL-URL:https://literaturhaus-bonn.de
X-WR-CALDESC:Veranstaltungen für Literaturhaus Bonn
REFRESH-INTERVAL;VALUE=DURATION:PT1H
X-Robots-Tag:noindex
X-PUBLISHED-TTL:PT1H
BEGIN:VTIMEZONE
TZID:Europe/Berlin
BEGIN:DAYLIGHT
TZOFFSETFROM:+0100
TZOFFSETTO:+0200
TZNAME:CEST
DTSTART:20230326T010000
END:DAYLIGHT
BEGIN:STANDARD
TZOFFSETFROM:+0200
TZOFFSETTO:+0100
TZNAME:CET
DTSTART:20231029T010000
END:STANDARD
BEGIN:DAYLIGHT
TZOFFSETFROM:+0100
TZOFFSETTO:+0200
TZNAME:CEST
DTSTART:20240331T010000
END:DAYLIGHT
BEGIN:STANDARD
TZOFFSETFROM:+0200
TZOFFSETTO:+0100
TZNAME:CET
DTSTART:20241027T010000
END:STANDARD
BEGIN:DAYLIGHT
TZOFFSETFROM:+0100
TZOFFSETTO:+0200
TZNAME:CEST
DTSTART:20250330T010000
END:DAYLIGHT
BEGIN:STANDARD
TZOFFSETFROM:+0200
TZOFFSETTO:+0100
TZNAME:CET
DTSTART:20251026T010000
END:STANDARD
END:VTIMEZONE
BEGIN:VEVENT
DTSTART;VALUE=DATE:20240301
DTEND;VALUE=DATE:20240401
DTSTAMP:20260421T042007
CREATED:20240229T155833Z
LAST-MODIFIED:20240301T124937Z
UID:15773920-1709251200-1711929599@literaturhaus-bonn.de
SUMMARY:TEXTWETTBEWERB »Der Souverän Volk ist gefragt«
DESCRIPTION:Bonner Bürgerinnen und Bürger schreiben über 75 Jahre Grundgesetz\n\n\n			\n				\n				\n				\n				\n				\n\nEs ist wichtig\, dass Menschen ihre Interessen organisieren. Es geht nicht um Fraktionszwang oder den Koalitionsfrieden. Was zählt\, ist die Frage: Was will ich – der Souverän »Volk«.Roger Willemsen\n\n\n			\n			\n				\n				\n				\n				\n				\n			\n				\n				\n				\n				\n			\n				\n				\n				\n				\n				\n				\n				\n				\n				\n				\n				\n\nRoger Willemsen (1955 – 2016) war Bonner\, Journalist und Schriftsteller\, von 2011 bis zu seinem Tod Schirmherr des Literaturhauses Bonn und überzeugter Demokrat. In seinem Sinn loben das Literaturhaus Bonn und der Bonner General-Anzeiger einen Textwettbewerb zum Geburtstag des Grundgesetzes aus: \nAlle Bonnerinnen und Bonner sind aufgerufen\, Ihre Gedanken\, Erinnerungen\, Appelle und Träume rund ums Thema 75 Jahre Grundgesetz aufzuschreiben. In demokratischer Freiheit und Vielfalt ist alles möglich – ein Gedicht über die Menschenwürde genauso wie persönliche Erinnerungen an die Gründerjahre der Bonner Republik\, ein Essay zum Asylrecht oder Slamtexte zur Pressefreiheit\, Lobreden an die Mütter und Väter des Grundgesetzes u.v.a.m. \nAus den Einsendungen wählt eine Jury die fünf überzeugendsten Beiträge aus. Am Vorabend des Grundgesetz-Geburtstags\, Mittwoch\, den 22. Mai 2024\, werden sie in Anwesenheit des ehemaligen Bundesinnenministers Gerhart Baum im Bonner Haus der Bildung präsentiert: als Teil eines musikalisch-literarischen Programms\, zu dem der Landesmusikrat NRW die Gewinner seines Song Contests „Klingende Grundrechte“ beisteuert. Den prämierten Texten winkt außerdem eine Veröffentlichung im General-Anzeiger Bonn – print (ggf. in Auszügen) und online. \nWir freuen uns auf zahlreiche\, vielfältige Einsendungen – kritische und engagierte\, satirische wie ernste\, sachlich oder literarisch ambitioniert. Textform und -genre sind frei wählbar. \nEin Kooperationsprojekt von Literaturhaus Bonn und General-Anzeiger Bonn \n\n\n			\n				\n				\n				\n				\n				Ausschreibungszeitraum: 1. – 31.3.2024Textlänge: max. 6.000 Zeichen inklusive Leerzeichen \n			\n				Hier Text einreichen!\n			\n				\n				\n				\n				\n				In weiterer Kooperation mit der Stadtbiliothek Bonn und dem Landesmusikrat NRW 
URL:https://literaturhaus-bonn.de/veranstaltung/textwettbewerb-der-souveraen-volk-ist-gefragt/
CATEGORIES:75 JAHRE GRUNDGESETZ
ATTACH;FMTTYPE=image/png:https://literaturhaus-bonn.de/wp-content/uploads/2023/02/Logo_mit_Dreieick-1.png
END:VEVENT
BEGIN:VEVENT
DTSTART;TZID=Europe/Berlin:20240320T193000
DTEND;TZID=Europe/Berlin:20240320T193000
DTSTAMP:20260421T042008
CREATED:20231205T122212Z
LAST-MODIFIED:20240325T115334Z
UID:15773456-1710963000-1710963000@literaturhaus-bonn.de
SUMMARY:NOBELPREISTRÄGER ÜBERSETZEN HINRICH SCHMIDT-HENKEL SPRICHT ÜBER SEINE ARBEIT MIT JON FOSSE
DESCRIPTION:Moderation: Almuth Voß \nDas Gesamtwerk Jon Fosses ist im deutschsprachigen Raum untrennbar mit dem Namen Hinrich Schmidt-Henkels verbunden. Seit über 20 Jahren begleitet er den norwegischen Schriftsteller\, ist ihm selbst und seinen Texten nah und übersetzte schon 25 Dramen und 7 Romane. 2001 erschien mit »Traum im Herbst und andere Stücke« der erste deutsche Band im Rowohlt Verlag. Berühmt wurde Jon Fosse in Deutschland zunächst mit eben jenem dramatischen Schaffen\, dem die Veranstaltung sich neben dem Prosawerk eingehend widmet. \nJon Fosse\, 1959 in der norwegischen Küstenstadt Haugesund geboren und am Hardangerfjord aufgewachsen\, gilt als einer der bedeutendsten europäischen Schriftsteller unserer Zeit. 2023 wurde er mit dem Nobelpreis für Literatur ausgezeichnet. Internationale Bekanntheit erlangte Fosse zunächst als Dramatiker. Seine mehr als dreißig Theaterstücke werden weltweit aufgeführt und brachten ihm zahlreiche Preise ein. \nHinrich Schmidt-Henkel\, geboren 1959\, lebt in Berlin. Er übersetzt u.a. auch Jean Echenoz\, Édouard Louis\, Tomas Espedal und Tarjei Vesaas. Ausgezeichnet wurde er z. B. mit dem Jane Scatcherd-Preis\, dem Paul-Celan-Preis des Deutschen Literaturfonds und dem Straelener Übersetzerpreis der Kunststiftung NRW (zusammen mit Frank Heibert). \nGefördert durch die Kunststiftung NRW.In Kooperation mit Stadtbibliothek Bonn und Deutsch-Norwegische Gesellschaft e.V. \n			\n				\n				\n				\n				\n				Saal im Haus der Bildung\, Bottlerplatz 1\, Bonn\nKarten im VVK über Bonnticket 16€ / 8€\, Abendkasse 18€ / 10€\n			\n				\n				\n				\n				\n				Foto Jon Fosse: Tom A. KolstadFoto Hinrich Schmidt-Henkel: Ebba D. Drolshagen\n			\n				TICKETS
URL:https://literaturhaus-bonn.de/veranstaltung/nobelpreistraeger-uebersetzen-hinrich-schmidt-henkels-spricht-ueber-seine-arbeit-mit-jon-fosse/
LOCATION:Saal im Haus der Bildung\, Bottlerplatz 1\, 53111 Bonn\, 53111\, Deutschland
CATEGORIES:LITERATUR ÜBERSETZEN
ATTACH;FMTTYPE=image/jpeg:https://literaturhaus-bonn.de/wp-content/uploads/2023/12/Fosse_HSH.jpg
END:VEVENT
END:VCALENDAR