BEGIN:VCALENDAR
VERSION:2.0
PRODID:-//Literaturhaus Bonn - ECPv6.15.18//NONSGML v1.0//EN
CALSCALE:GREGORIAN
METHOD:PUBLISH
X-ORIGINAL-URL:https://literaturhaus-bonn.de
X-WR-CALDESC:Veranstaltungen für Literaturhaus Bonn
REFRESH-INTERVAL;VALUE=DURATION:PT1H
X-Robots-Tag:noindex
X-PUBLISHED-TTL:PT1H
BEGIN:VTIMEZONE
TZID:Europe/Berlin
BEGIN:DAYLIGHT
TZOFFSETFROM:+0100
TZOFFSETTO:+0200
TZNAME:CEST
DTSTART:20230326T010000
END:DAYLIGHT
BEGIN:STANDARD
TZOFFSETFROM:+0200
TZOFFSETTO:+0100
TZNAME:CET
DTSTART:20231029T010000
END:STANDARD
BEGIN:DAYLIGHT
TZOFFSETFROM:+0100
TZOFFSETTO:+0200
TZNAME:CEST
DTSTART:20240331T010000
END:DAYLIGHT
BEGIN:STANDARD
TZOFFSETFROM:+0200
TZOFFSETTO:+0100
TZNAME:CET
DTSTART:20241027T010000
END:STANDARD
BEGIN:DAYLIGHT
TZOFFSETFROM:+0100
TZOFFSETTO:+0200
TZNAME:CEST
DTSTART:20250330T010000
END:DAYLIGHT
BEGIN:STANDARD
TZOFFSETFROM:+0200
TZOFFSETTO:+0100
TZNAME:CET
DTSTART:20251026T010000
END:STANDARD
END:VTIMEZONE
BEGIN:VEVENT
DTSTART;TZID=Europe/Berlin:20240128T140000
DTEND;TZID=Europe/Berlin:20240128T200000
DTSTAMP:20260421T071304
CREATED:20231214T154654Z
LAST-MODIFIED:20231221T173451Z
UID:15773619-1706450400-1706472000@literaturhaus-bonn.de
SUMMARY:Gemeinsame Fahrt ins Schauspiel Düsseldorf zu »Dschinns« [Ausgebucht]
DESCRIPTION:Im Rahmen von BONN LIEST EIN BUCH 2023 besucht das Literaturhaus Bonn die Inszenierung von Fatma Aydemirs »Dschinns« des Schauspiels Düsseldorf am Sonntagnachmittag des 28. Januar 2024. Als besonderes Extra ermöglichen wir im Anschluss das Gespräch mit Regisseur Bassam Ghazi und Schauspielerin Ilkay Yilmaz\, die im Stück die Rolle der Emine verkörpert. \nAls kleine Reisegruppe geht es am Sonntag\, den 28. Januar 2024 gegen 14 Uhr gemeinsam mit dem Zug Richtung Düsseldorf. Dort besuchen wir dann die Aufführung von »Dschinns« von 16-18 Uhr und bekommen im Anschluss die exklusive Gelegenheit zum Gespräch mit den kreativen Köpfen hinter der Inszenierung. \n			\n				\n				\n				\n				\n				Je nachdem\, welche Tickets für Zug und Theaterstück gebucht werden\, entstehen für Sie Kosten zwischen 8€-45€. Das exklusive Gespräch mit dem Ensemble ist ein Geschenk des LHB. Anmeldung für die Warteliste hier.
URL:https://literaturhaus-bonn.de/veranstaltung/gemeinsame-fahrt-ins-schauspiel-duesseldorf-zu-dschinns-ausgebucht/
LOCATION:Bonn Hbf > Düsseldorfer Schauspielhaus > Bonn Hbf
CATEGORIES:BONN LIEST EIN BUCH
END:VEVENT
END:VCALENDAR