BEGIN:VCALENDAR
VERSION:2.0
PRODID:-//Literaturhaus Bonn - ECPv6.15.18//NONSGML v1.0//EN
CALSCALE:GREGORIAN
METHOD:PUBLISH
X-ORIGINAL-URL:https://literaturhaus-bonn.de
X-WR-CALDESC:Veranstaltungen für Literaturhaus Bonn
REFRESH-INTERVAL;VALUE=DURATION:PT1H
X-Robots-Tag:noindex
X-PUBLISHED-TTL:PT1H
BEGIN:VTIMEZONE
TZID:Europe/Berlin
BEGIN:DAYLIGHT
TZOFFSETFROM:+0100
TZOFFSETTO:+0200
TZNAME:CEST
DTSTART:20230326T010000
END:DAYLIGHT
BEGIN:STANDARD
TZOFFSETFROM:+0200
TZOFFSETTO:+0100
TZNAME:CET
DTSTART:20231029T010000
END:STANDARD
BEGIN:DAYLIGHT
TZOFFSETFROM:+0100
TZOFFSETTO:+0200
TZNAME:CEST
DTSTART:20240331T010000
END:DAYLIGHT
BEGIN:STANDARD
TZOFFSETFROM:+0200
TZOFFSETTO:+0100
TZNAME:CET
DTSTART:20241027T010000
END:STANDARD
BEGIN:DAYLIGHT
TZOFFSETFROM:+0100
TZOFFSETTO:+0200
TZNAME:CEST
DTSTART:20250330T010000
END:DAYLIGHT
BEGIN:STANDARD
TZOFFSETFROM:+0200
TZOFFSETTO:+0100
TZNAME:CET
DTSTART:20251026T010000
END:STANDARD
END:VTIMEZONE
BEGIN:VEVENT
DTSTART;TZID=Europe/Berlin:20240118T180000
DTEND;TZID=Europe/Berlin:20240118T180000
DTSTAMP:20260421T071355
CREATED:20231204T123305Z
LAST-MODIFIED:20240124T122123Z
UID:15773403-1705600800-1705600800@literaturhaus-bonn.de
SUMMARY:YASMINE M’BAREK »PROTEST«[AUSGEBUCHT]
DESCRIPTION:Moderation: Tilman Strasser \nOb Klimaproteste oder Coronaproteste – lebhafte Bekundungen des Missfallens treten derzeit häufig und in unterschiedlichsten Formen auf. Aber welche Art von Protest kann wirklich Veränderungen bringen? Helfen an Straßen geklebte Aktivist*innen der Klimapolitik oder schaden sie ihr? Ändern offene Briefe etwas an der Realpolitik? Und wenn nicht\, warum dann überhaupt noch protestieren?\nYasmine M’Barek\, eine der einflussreichsten jungen Journalist*innen im deutschsprachigen Raum\, argumentiert lässig und präzise\, was sinnvoll und demokratisch bei der Veränderung der Verhältnisse helfen kann und welche Aktionen kontraproduktiv sind. Denn eine Gesellschaft bekommt immer die Proteste\, die sie verdient hat. \nDie zwischen/miete nrw weitet den Blick: Die Reihe für literarische Hausbesuche ist als zwischen/miete diskursiv Partner der Bundeszentrale für politischeBildung/bpb in Bonn. Immer mit einem Gast aus Journalismus\, Aktivismus\, Wissenschaft\, immer mit einer Idee von Morgen. \nGefördert vom Ministerium für Wissenschaft und Kultur des Landes Nordrhein-Westfalen\nIn Kooperation mit der Bundeszentrale für politische Bildung\n			\n				\n				\n				\n				\n				Medienzentrum Bundeszentrale für politische Bildung\, Bundeskanzlerplatz 2\, Bonn\nAusgebucht\, keine Anmeldung mehr möglich\n\n			\n				\n				\n				\n				\n				Foto:  Léon Haffmanns
URL:https://literaturhaus-bonn.de/veranstaltung/yasmine-mbarek-protest/
LOCATION:bpb:medienzentrum\, Bundeskanzlerplatz\, Bonn
CATEGORIES:ZWISCHEN/MIETE
ATTACH;FMTTYPE=image/jpeg:https://literaturhaus-bonn.de/wp-content/uploads/2023/12/Yasmine-MBarek-c-Leon-Haffmanns_-1.jpg
END:VEVENT
END:VCALENDAR